| MAQCsubsetAFX 1.0.3 Laurent Gatto
 
 | Snapshot Date: 2010-04-02 12:27:31 -0700 (Fri, 02 Apr 2010) |  | URL: https://hedgehog.fhcrc.org/bioc-data/trunk/experiment/pkgs/MAQCsubsetAFX |  | Last Changed Rev: 1071 / Revision: 1201 |  | Last Changed Date: 2009-10-14 00:23:52 -0700 (Wed, 14 Oct 2009) | 
 | wilson2 | Linux (openSUSE 11.1) / x86_64 | OK | OK |  | 
| pitt | Mac OS X Tiger (10.4.11) / i386 | [ OK ] | OK | OK | 
| pelham | Mac OS X Leopard (10.5.8) / i386 | OK | OK | OK | 
* checking for file 'MAQCsubsetAFX/DESCRIPTION' ... OK
* preparing 'MAQCsubsetAFX':
* checking DESCRIPTION meta-information ... OK
* installing the package to re-build vignettes
* installing *source* package ‘MAQCsubsetAFX’ ...
** data
** inst
** help
*** installing help indices
** building package indices ...
* DONE (MAQCsubsetAFX)
* creating vignettes ... OK
* removing junk files
* checking for LF line-endings in source and make files
* checking for empty or unneeded directories
* building 'MAQCsubsetAFX_1.0.3.tar.gz'