| AffymetrixDataTestFiles 0.1.2 Henrik Bengtsson
 
 | Snapshot Date: 2010-04-02 12:27:31 -0700 (Fri, 02 Apr 2010) |  | URL: https://hedgehog.fhcrc.org/bioc-data/trunk/experiment/pkgs/AffymetrixDataTestFiles |  | Last Changed Rev: 959 / Revision: 1201 |  | Last Changed Date: 2009-09-10 11:19:18 -0700 (Thu, 10 Sep 2009) | 
 | wilson2 | Linux (openSUSE 11.1) / x86_64 | [ OK ] | OK |  | 
| pitt | Mac OS X Tiger (10.4.11) / i386 | OK | OK | OK | 
| pelham | Mac OS X Leopard (10.5.8) / i386 | OK | OK | OK | 
* checking for file 'AffymetrixDataTestFiles/DESCRIPTION' ... OK
* preparing 'AffymetrixDataTestFiles':
* checking DESCRIPTION meta-information ... OK
* removing junk files
* checking for LF line-endings in source and make files
* checking for empty or unneeded directories
* building 'AffymetrixDataTestFiles_0.1.2.tar.gz'