maqcExpression4plex 1.2 Benilton Carvalho
 | Snapshot Date: 2009-08-10 00:27:00 -0700 (Mon, 10 Aug 2009) |  | URL: https://hedgehog.fhcrc.org/bioc-data/trunk/experiment/pkgs/maqcExpression4plex |  | Last Changed Rev: 399 / Revision: 938 |  | Last Changed Date: 2007-07-28 14:59:14 -0700 (Sat, 28 Jul 2007) |  
  | wilson1  | Linux (openSUSE 11.1) / x86_64  |  OK  |  OK  |  | 
| liverpool  | Windows Server 2003 R2 (32-bit) / x64  |  OK  |  OK  |  OK  | 
| pitt  | Mac OS X Tiger (10.4.11) / i386  |  OK  |  OK  | [ OK ] | 
| pelham  | Mac OS X Leopard (10.5.7) / i386  |  OK  |  OK  |  OK  | 
                INSTALLATION WITH 'R CMD INSTALL --preclean --library=maqcExpression4plex.buildbin-libdir maqcExpression4plex_1.2.tar.gz'
* Installing *source* package 'maqcExpression4plex' ...
** R
** inst
** preparing package for lazy loading
** help
*** installing help indices
 >>> Building/Updating help pages for package 'maqcExpression4plex'
     Formats: text html latex example 
  maqcExpression4plex-package       text    html    latex   example
** building package indices ...
* DONE (maqcExpression4plex)