| beadarray 1.12.1 Mark Dunning
 
 | Bioconductor Changelog |  | Snapshot Date: 2009-10-20 11:27:33 -0700 (Tue, 20 Oct 2009) |  | URL: https://hedgehog.fhcrc.org/bioconductor/branches/RELEASE_2_4/madman/Rpacks/beadarray |  | Last Changed Rev: 42135 / Revision: 42512 |  | Last Changed Date: 2009-10-02 09:48:47 -0700 (Fri, 02 Oct 2009) | 
 | wilson1 | Linux (openSUSE 11.1) / x86_64 | [ OK ] | OK |  | 
| liverpool | Windows Server 2003 R2 (32-bit) / x64 | OK | OK | OK | 
| pitt | Mac OS X Tiger (10.4.11) / i386 | OK | OK | OK | 
| pelham | Mac OS X Leopard (10.5.8) / i386 | OK | OK | OK | 
* checking for file 'beadarray/DESCRIPTION' ... OK
* preparing 'beadarray':
* checking DESCRIPTION meta-information ... OK
* cleaning src
* installing the package to re-build vignettes
* Installing *source* package 'beadarray' ...
** libs
gcc -std=gnu99 -I/home/biocbuild/bbs-2.4-bioc/R/include  -I/usr/local/include    -fpic  -g -O2 -Wall -c BASH.c -o BASH.o
gcc -std=gnu99 -I/home/biocbuild/bbs-2.4-bioc/R/include  -I/usr/local/include    -fpic  -g -O2 -Wall -c BLImagePlot.c -o BLImagePlot.o
gcc -std=gnu99 -I/home/biocbuild/bbs-2.4-bioc/R/include  -I/usr/local/include    -fpic  -g -O2 -Wall -c HULK.c -o HULK.o
gcc -std=gnu99 -I/home/biocbuild/bbs-2.4-bioc/R/include  -I/usr/local/include    -fpic  -g -O2 -Wall -c createBeadSummaryData.c -o createBeadSummaryData.o
createBeadSummaryData.c: In function 'findAllOutliers':
createBeadSummaryData.c:223: warning: 'status' may be used uninitialized in this function
gcc -std=gnu99 -I/home/biocbuild/bbs-2.4-bioc/R/include  -I/usr/local/include    -fpic  -g -O2 -Wall -c findProbeIndices.c -o findProbeIndices.o
gcc -std=gnu99 -I/home/biocbuild/bbs-2.4-bioc/R/include  -I/usr/local/include    -fpic  -g -O2 -Wall -c readBeadImages.c -o readBeadImages.o
readBeadImages.c: In function 'getPixelIntensities':
readBeadImages.c:368: warning: unused variable 'result'
readBeadImages.c: In function 'readBeadImage':
readBeadImages.c:578: warning: 'offset' may be used uninitialized in this function
readBeadImages.c:578: warning: 'records' may be used uninitialized in this function
readBeadImages.c:577: warning: 'StripOffset' may be used uninitialized in this function
readBeadImages.c:577: warning: 'ImageHeight' may be used uninitialized in this function
readBeadImages.c:577: warning: 'ImageWidth' may be used uninitialized in this function
readBeadImages.c:577: warning: 'BeginData' may be used uninitialized in this function
gcc -std=gnu99 -shared -L/usr/local/lib64 -o beadarray.so BASH.o BLImagePlot.o HULK.o createBeadSummaryData.o findProbeIndices.o readBeadImages.o -L/home/biocbuild/bbs-2.4-bioc/R/lib -lR
** R
** data
** inst
** preparing package for lazy loading
Welcome to Bioconductor
  Vignettes contain introductory material. To view, type
  'openVignette()'. To cite Bioconductor, see
  'citation("Biobase")' and for packages 'citation(pkgname)'.
** help
*** installing help indices
 >>> Building/Updating help pages for package 'beadarray'
     Formats: text html latex example 
  BASH                              text    html    latex   example
  BASHCompact                       text    html    latex   example
  BASHDiffuse                       text    html    latex   example
  BASHExtended                      text    html    latex   example
  BGFilter                          text    html    latex   example
  BGFilterWeighted                  text    html    latex   example
  BLData                            text    html    latex
  BSData                            text    html    latex
  ExpressionControlData             text    html    latex   example
  HULK                              text    html    latex   example
  HULKResids                        text    html    latex   example
  addArrayMask                      text    html    latex   example
  arrayNames                        text    html    latex   example
  backgroundControlPlot             text    html    latex
  backgroundCorrect                 text    html    latex   example
  beadResids                        text    html    latex   example
  beadarrayUsersGuide               text    html    latex   example
  boxplotBeads                      text    html    latex   example
  calculateBeadLevelScores          text    html    latex
  calculateDetection                text    html    latex   example
  chooseClusters                    text    html    latex   example
  class-BeadLevelList               text    html    latex
  class.ExpressionSetIllumina       text    html    latex
  closeImage                        text    html    latex   example
  combineBeadLevelLists             text    html    latex
  copyBeadLevelLists                text    html    latex   example
  createBeadSummaryData             text    html    latex   example
  denseRegions                      text    html    latex   example
  findAllOutliers                   text    html    latex   example
  findBeadStatus                    text    html    latex   example
  generateE                         text    html    latex   example
  generateNeighbours                text    html    latex   example
  getAnnotation                     text    html    latex   example
  getArrayData                      text    html    latex   example
  getVariance                       text    html    latex   example
  imageplot                         text    html    latex   example
  interactivePlots                  text    html    latex
  lmhPlot                           text    html    latex
  medianNormalise                   text    html    latex   example
  normaliseIllumina                 text    html    latex   example
  numBeads                          text    html    latex   example
  outlierplot                       text    html    latex
  plotBeadDensities                 text    html    latex   example
  plotBeadIntensities               text    html    latex   example
  plotBeadLocations                 text    html    latex   example
  plotMA                            text    html    latex   example
  plotMAXY                          text    html    latex   example
  plotOnSAM                         text    html    latex
  plotRG                            text    html    latex
  plotXY                            text    html    latex   example
  poscontPlot                       text    html    latex
  probePairsPlot                    text    html    latex
  qcBeadLevel                       text    html    latex   example
  rankInvariantNormalise            text    html    latex   example
  readBGX                           text    html    latex   example
  readBeadSummaryData               text    html    latex   example
  readIllumina                      text    html    latex   example
  readQC                            text    html    latex   example
  setWeights                        text    html    latex   example
  viewBeads                         text    html    latex   example
** building package indices ...
* DONE (beadarray)
* creating vignettes ... OK
* cleaning src
* removing junk files
* checking for LF line-endings in source and make files
* checking for empty or unneeded directories
* building 'beadarray_1.12.1.tar.gz'