| MAQCsubsetILM 1.0.0 Laurent Gatto
 
 | Snapshot Date: 2009-04-10 00:03:00 -0700 (Fri, 10 Apr 2009) |  | URL: https://hedgehog.fhcrc.org/bioc-data/trunk/experiment/pkgs/MAQCsubsetILM |  | Last Changed Rev: 584 / Revision: 760 |  | Last Changed Date: 2008-03-12 03:46:46 -0700 (Wed, 12 Mar 2008) | 
 | wilson2 | Linux (openSUSE 10.3) / x86_64 | OK | OK |  | 
| liverpool | Windows Server 2003 R2 (32-bit) / x64 | OK | OK | [ OK ] | 
| pelham | Mac OS X Leopard (10.5.6) / i386 | OK | OK | OK | 
installing R.css in E:/biocbld/bbs-2.3-data-experiment/meat/MAQCsubsetILM.buildbin-libdir
Using auto-selected zip options 'MAQCsubsetILM-ZIPDATA=zip'
---------- Making package MAQCsubsetILM ------------
  adding build stamp to DESCRIPTION
  no R files in this package
  installing inst files
  installing data files
  installing man source files
  installing indices
  zipping data
  installing help
 >>> Building/Updating help pages for package 'MAQCsubsetILM'
     Formats: text html latex example chm 
  refA                              text    html    latex           chm
  refB                              text    html    latex           chm
  refC                              text    html    latex           chm
  refD                              text    html    latex           chm
Microsoft HTML Help Compiler 4.74.8702
Compiling e:\biocbld\bbs-2.3-data-experiment\meat\R.INSTALL.7324\MAQCsubsetILM\chm\MAQCsubsetILM.chm
Compile time: 0 minutes, 0 seconds
5	Topics
8	Local links
0	Internet links
1	Graphic
Created e:\biocbld\bbs-2.3-data-experiment\meat\R.INSTALL.7324\MAQCsubsetILM\chm\MAQCsubsetILM.chm, 16,378 bytes
Compression increased file by 5,415 bytes.
  adding MD5 sums
packaged installation of package 'MAQCsubsetILM' as MAQCsubsetILM_1.0.0.zip
* DONE (MAQCsubsetILM)