| Back to the "Multiple platform build/check report" |
| Package 12/61 | Hostname | OS / Arch | BUILD | CHECK | BUILD BIN | ||||
| davidTiling 1.2.8 Wolfgang Huber
| lamb1 | Linux (SUSE 10.1) / x86_64 | OK | OK | |||||
| liverpool | Windows Server 2003 R2 (32-bit) / x64 | [ OK ] | OK | OK | |||||
| pitt | Mac OS X Tiger (10.4.11) / i386 | OK | OK | OK |
| Package: davidTiling |
| Version: 1.2.8 |
| Command: E:\biocbld\bbs-2.2-bioc\R\bin\R.exe CMD build davidTiling |
| StartedAt: 2008-10-16 13:19:19 -0700 (Thu, 16 Oct 2008) |
| EndedAt: 2008-10-16 13:22:54 -0700 (Thu, 16 Oct 2008) |
| EllapsedTime: 215.2 seconds |
| RetCode: 0 |
| Status: OK |
| PackageFile: davidTiling_1.2.8.tar.gz |
| PackageFileSize: 626.4 MiB |
* checking for file 'davidTiling/DESCRIPTION' ... OK * preparing 'davidTiling': * checking DESCRIPTION meta-information ... OK * removing junk files * checking for LF line-endings in source and make files * checking for empty or unneeded directories * building 'davidTiling_1.2.8.tar.gz'