| ctc 1.14.0 Antoine Lucas
 
 | Snapshot Date: 2008-08-08 00:12:03 -0700 (Fri, 08 Aug 2008) |  | URL: https://hedgehog.fhcrc.org/bioconductor/branches/RELEASE_2_2/madman/Rpacks/ctc |  | Last Changed Rev: 31430 / Revision: 33132 |  | Last Changed Date: 2008-04-29 16:50:18 -0700 (Tue, 29 Apr 2008) | 
 | lamb1 | Linux (SUSE 10.1) / x86_64 | OK | OK |  | 
| wilson2 | Linux (openSUSE 10.3) / x86_64 | [ OK ] | OK |  | 
| wellington | Linux (openSUSE 10.3) / i686 | OK | OK |  | 
| liverpool | Windows Server 2003 R2 (32-bit) / x64 | OK | OK | OK | 
| pitt | Mac OS X Tiger (10.4.11) / i386 | OK | OK | OK | 
* checking for file 'ctc/DESCRIPTION' ... OK
* preparing 'ctc':
* checking DESCRIPTION meta-information ... OK
* installing the package to re-build vignettes
* Installing *source* package 'ctc' ...
** R
** demo
** exec
** inst
** help
 >>> Building/Updating help pages for package 'ctc'
     Formats: text html latex example 
  hc2Newick                         text    html    latex   example
  hclust2treeview                   text    html    latex   example
  r2cluster                         text    html    latex   example
  r2gtr                             text    html    latex   example
  r2xcluster                        text    html    latex   example
  read.eisen                        text    html    latex
  xcluster                          text    html    latex   example
  xcluster2r                        text    html    latex   example
** building package indices ...
* DONE (ctc)
* creating vignettes ... OK
* removing junk files
* checking for LF line-endings in source and make files
* checking for empty or unneeded directories
* building 'ctc_1.14.0.tar.gz'