| virtualArray 1.8.0 Andreas Heider
 
 | Snapshot Date: 2014-04-22 17:03:48 -0700 (Tue, 22 Apr 2014) |  | URL: https://hedgehog.fhcrc.org/bioconductor/branches/RELEASE_2_14/madman/Rpacks/virtualArray |  | Last Changed Rev: 88838 / Revision: 89373 |  | Last Changed Date: 2014-04-11 14:07:21 -0700 (Fri, 11 Apr 2014) | 
 | zin2 | Linux (Ubuntu 12.04.4 LTS) / x86_64 | OK | WARNINGS |  | 
| moscato2 | Windows Server 2008 R2 Enterprise SP1 (64-bit) / x64 | OK | WARNINGS | OK | 
| petty | Mac OS X Snow Leopard (10.6.8) / x86_64 | OK | WARNINGS | OK | 
| morelia | Mac OS X Mavericks (10.9.2) / x86_64 | OK | WARNINGS | [ OK ] | 
>>>>>>> 
>>>>>>> INSTALLATION WITH 'R CMD INSTALL --preclean --no-multiarch --library=virtualArray.buildbin-libdir virtualArray_1.8.0.tar.gz'
>>>>>>> 
* installing *source* package 'virtualArray' ...
** R
** data
*** moving datasets to lazyload DB
** inst
** preparing package for lazy loading
Warning: replacing previous import by 'utils::relist' when loading 'virtualArray'
Creating a generic function for 'hist' from package 'graphics' in package 'affyPLM'
Warning: replacing previous import by 'methods::new' when loading 'virtualArray'
Warning: replacing previous import by 'stats::density' when loading 'virtualArray'
Warning: replacing previous import by 'utils::installed.packages' when loading 'virtualArray'
Warning: replacing previous import by 'utils::read.csv' when loading 'virtualArray'
Warning: replacing previous import by 'utils::read.table' when loading 'virtualArray'
Warning: replacing previous import by 'utils::write.table' when loading 'virtualArray'
Creating a generic function from function 'virtualArrayComBat' in package 'virtualArray'
** help
*** installing help indices
** building package indices
** installing vignettes
** testing if installed package can be loaded
Warning: replacing previous import by 'utils::relist' when loading 'virtualArray'
Creating a generic function for 'hist' from package 'graphics' in package 'affyPLM'
Warning: replacing previous import by 'methods::new' when loading 'virtualArray'
Warning: replacing previous import by 'stats::density' when loading 'virtualArray'
Warning: replacing previous import by 'utils::installed.packages' when loading 'virtualArray'
Warning: replacing previous import by 'utils::read.csv' when loading 'virtualArray'
Warning: replacing previous import by 'utils::read.table' when loading 'virtualArray'
Warning: replacing previous import by 'utils::write.table' when loading 'virtualArray'
To support our work please cite:
To cite package 'virtualArray' in publications use:
  Andreas Heider and R<fc>diger Alt (2013). virtualArray: a
  R/bioconductor package to merge raw data from different microarray
  platforms. R package version 1.8.0.
A BibTeX entry for LaTeX users is
  @Article{,
    title = {virtualArray: a R/bioconductor package to merge raw data from different microarray platforms},
    author = {{Andreas Heider} and {R<fc>diger Alt}},
    year = {2013},
    note = {R package version 1.8.0},
    journal = {BMC Bioinformatics},
    volume = {14},
    pages = {75},
  }
Thanks.
* DONE (virtualArray)