| Back to the "Multiple platform build/check report" |
This page was generated on 2014-04-04 17:28:47 -0700 (Fri, 04 Apr 2014).
| Package 69/181 | Hostname | OS / Arch | BUILD | CHECK | BUILD BIN | ||||
| gatingMLData 2.1.4 J. Spidlen
| zin1 | Linux (Ubuntu 12.04.4 LTS) / x86_64 | [ OK ] | OK | |||||
| moscato1 | Windows Server 2008 R2 Enterprise SP1 (64-bit) / x64 | OK | OK | OK | |||||
| perceval | Mac OS X Snow Leopard (10.6.8) / x86_64 | OK | OK | OK |
| Package: gatingMLData |
| Version: 2.1.4 |
| Command: /home/biocbuild/bbs-2.13-bioc/R/bin/R CMD build --keep-empty-dirs --no-resave-data gatingMLData |
| StartedAt: 2014-04-04 08:07:52 -0700 (Fri, 04 Apr 2014) |
| EndedAt: 2014-04-04 08:08:44 -0700 (Fri, 04 Apr 2014) |
| EllapsedTime: 51.8 seconds |
| RetCode: 0 |
| Status: OK |
| PackageFile: gatingMLData_2.1.4.tar.gz |
| PackageFileSize: 8.282 MiB |
* checking for file ‘gatingMLData/DESCRIPTION’ ... OK * preparing ‘gatingMLData’: * checking DESCRIPTION meta-information ... OK * checking for LF line-endings in source and make files * checking for empty or unneeded directories * building ‘gatingMLData_2.1.4.tar.gz’