| synapterdata 1.0.1 Laurent Gatto
 
 | Snapshot Date: 2014-04-04 06:15:32 -0700 (Fri, 04 Apr 2014) |  | URL: https://hedgehog.fhcrc.org/bioc-data/branches/RELEASE_2_13/experiment/pkgs/synapterdata |  | Last Changed Rev: 2533 / Revision: 2768 |  | Last Changed Date: 2013-10-14 15:00:20 -0700 (Mon, 14 Oct 2013) | 
 | zin1 | Linux (Ubuntu 12.04.4 LTS) / x86_64 | OK | OK |  | 
| moscato1 | Windows Server 2008 R2 Enterprise SP1 (64-bit) / x64 | OK | OK | [ OK ] | 
| perceval | Mac OS X Snow Leopard (10.6.8) / x86_64 | OK | OK | OK | 
  adding: data/ (256 bytes security) (stored 0%)
  adding: data/datalist (188 bytes security) (deflated 38%)
  adding: data/ups25a.rda (188 bytes security) (deflated 0%)
  adding: data/ups25b.rda (188 bytes security) (deflated 0%)
  adding: data/ups25c.rda (188 bytes security) (deflated 0%)
  adding: data/ups50a.rda (188 bytes security) (deflated 0%)
  adding: data/ups50b.rda (188 bytes security) (deflated 0%)
  adding: data/ups50c.rda (188 bytes security) (deflated 0%)
  adding: DESCRIPTION (188 bytes security) (deflated 36%)
  adding: extdata/ (256 bytes security) (stored 0%)
  adding: extdata/EcoliK12_enolase_UPSsimga_NB.fasta.zip (188 bytes security) (stored 0%)
  adding: extdata/HDMSe_101111_25fmol_UPS1_in_Ecoli_02_IA_final_peptide.csv.gz (188 bytes security) (deflated 0%)
  adding: extdata/HDMSe_101111_25fmol_UPS1_in_Ecoli_04_IA_final_peptide.csv.gz (188 bytes security) (deflated 0%)
  adding: extdata/HDMSe_101111_25fmol_UPS1_in_Ecoli_06_IA_final_peptide.csv.gz (188 bytes security) (deflated 0%)
  adding: extdata/HDMSe_111111_50fmol_UPS1_in_Ecoli_02_IA_final_peptide.csv.gz (188 bytes security) (deflated 0%)
  adding: extdata/HDMSe_111111_50fmol_UPS1_in_Ecoli_04_IA_final_peptide.csv.gz (188 bytes security) (deflated 0%)
  adding: extdata/HDMSe_111111_50fmol_UPS1_in_Ecoli_06_IA_final_peptide.csv.gz (188 bytes security) (deflated 0%)
  adding: extdata/master.rds (188 bytes security) (deflated 1%)
  adding: extdata/MSe_101111_25fmol_UPS1_in_Ecoli_01_IA_final_peptide.csv.gz (188 bytes security) (deflated 0%)
  adding: extdata/MSe_101111_25fmol_UPS1_in_Ecoli_01_Pep3DAMRT.csv.gz (188 bytes security) (deflated 1%)
  adding: extdata/MSe_101111_25fmol_UPS1_in_Ecoli_03_IA_final_peptide.csv.gz (188 bytes security) (deflated 0%)
  adding: extdata/MSe_101111_25fmol_UPS1_in_Ecoli_03_Pep3DAMRT.csv.gz (188 bytes security) (deflated 1%)
  adding: extdata/MSe_101111_25fmol_UPS1_in_Ecoli_05_IA_final_peptide.csv.gz (188 bytes security) (deflated 0%)
  adding: extdata/MSe_101111_25fmol_UPS1_in_Ecoli_05_Pep3DAMRT.csv.gz (188 bytes security) (deflated 1%)
  adding: extdata/MSe_111111_50fmol_UPS1_in_Ecoli_01_IA_final_peptide.csv.gz (188 bytes security) (deflated 0%)
  adding: extdata/MSe_111111_50fmol_UPS1_in_Ecoli_01_Pep3DAMRT.csv.gz (188 bytes security) (deflated 1%)
  adding: extdata/MSe_111111_50fmol_UPS1_in_Ecoli_03_IA_final_peptide.csv.gz (188 bytes security) (deflated 0%)
  adding: extdata/MSe_111111_50fmol_UPS1_in_Ecoli_03_Pep3DAMRT.csv.gz (188 bytes security) (deflated 1%)
  adding: extdata/MSe_111111_50fmol_UPS1_in_Ecoli_05_IA_final_peptide.csv.gz (188 bytes security) (deflated 0%)
  adding: extdata/MSe_111111_50fmol_UPS1_in_Ecoli_05_Pep3DAMRT.csv.gz (188 bytes security) (deflated 1%)
  adding: help/ (256 bytes security) (stored 0%)
  adding: help/aliases.rds (188 bytes security) (stored 0%)
  adding: help/AnIndex (188 bytes security) (deflated 67%)
  adding: help/paths.rds (188 bytes security) (stored 0%)
  adding: help/synapterdata.rdb (188 bytes security) (stored 0%)
  adding: help/synapterdata.rdx (188 bytes security) (stored 0%)
  adding: html/ (256 bytes security) (stored 0%)
  adding: html/00Index.html (188 bytes security) (deflated 74%)
  adding: html/R.css (188 bytes security) (deflated 70%)
  adding: INDEX (188 bytes security) (deflated 35%)
  adding: MD5 (188 bytes security) (deflated 58%)
  adding: Meta/ (256 bytes security) (stored 0%)
  adding: Meta/data.rds (188 bytes security) (stored 0%)
  adding: Meta/hsearch.rds (188 bytes security) (stored 0%)
  adding: Meta/links.rds (188 bytes security) (stored 0%)
  adding: Meta/nsInfo.rds (188 bytes security) (stored 0%)
  adding: Meta/package.rds (188 bytes security) (stored 0%)
  adding: Meta/Rd.rds (188 bytes security) (stored 0%)
  adding: NAMESPACE (188 bytes security) (deflated 54%)
  adding: NEWS (188 bytes security) (deflated 48%)
  adding: R/ (256 bytes security) (stored 0%)
  adding: R/synapterdata (188 bytes security) (deflated 41%)
  adding: R/synapterdata.rdb (188 bytes security) (deflated 17%)
  adding: R/synapterdata.rdx (188 bytes security) (stored 0%)
  adding: scripts/ (256 bytes security) (stored 0%)
  adding: scripts/master.R (188 bytes security) (deflated 33%)
  adding: scripts/synergise.R (188 bytes security) (deflated 88%)