| hapmapsnp6 1.4.3 Benilton Carvalho
 
 | Snapshot Date: 2014-04-04 06:15:32 -0700 (Fri, 04 Apr 2014) |  | URL: https://hedgehog.fhcrc.org/bioc-data/branches/RELEASE_2_13/experiment/pkgs/hapmapsnp6 |  | Last Changed Rev: 2533 / Revision: 2768 |  | Last Changed Date: 2013-10-14 15:00:20 -0700 (Mon, 14 Oct 2013) | 
 | zin1 | Linux (Ubuntu 12.04.4 LTS) / x86_64 | OK | OK |  | 
| moscato1 | Windows Server 2008 R2 Enterprise SP1 (64-bit) / x64 | OK | [ OK ] | OK | 
| perceval | Mac OS X Snow Leopard (10.6.8) / x86_64 | OK | OK | OK | 
* using log directory 'D:/biocbld/bbs-2.13-data-experiment/meat/hapmapsnp6.Rcheck'
* using R version 3.0.3 (2014-03-06)
* using platform: i386-w64-mingw32 (32-bit)
* using session charset: ISO8859-1
* using option '--no-vignettes'
* checking for file 'hapmapsnp6/DESCRIPTION' ... OK
* this is package 'hapmapsnp6' version '1.4.3'
* checking package namespace information ... OK
* checking package dependencies ... OK
* checking if this is a source package ... OK
* checking if there is a namespace ... OK
* checking for hidden files and directories ... OK
* checking for portable file names ... OK
* checking whether package 'hapmapsnp6' can be installed ... OK
* checking installed package size ... NOTE
  installed size is 380.8Mb
  sub-directories of 1Mb or more:
    celFiles  197.6Mb
    data      183.2Mb
* checking package directory ... OK
* checking DESCRIPTION meta-information ... OK
* checking top-level files ... OK
* checking for left-over files ... OK
* checking index information ... OK
* checking package subdirectories ... OK
* checking R files for non-ASCII characters ... OK
* checking R files for syntax errors ... OK
* loading checks for arch 'i386'
** checking whether the package can be loaded ... OK
** checking whether the package can be loaded with stated dependencies ... OK
** checking whether the package can be unloaded cleanly ... OK
** checking whether the namespace can be loaded with stated dependencies ... OK
** checking whether the namespace can be unloaded cleanly ... OK
* loading checks for arch 'x64'
** checking whether the package can be loaded ... OK
** checking whether the package can be loaded with stated dependencies ... OK
** checking whether the package can be unloaded cleanly ... OK
** checking whether the namespace can be loaded with stated dependencies ... OK
** checking whether the namespace can be unloaded cleanly ... OK
* checking dependencies in R code ... OK
* checking S3 generic/method consistency ... OK
* checking replacement functions ... OK
* checking foreign function calls ... OK
* checking R code for possible problems ... OK
* checking Rd files ... OK
* checking Rd metadata ... OK
* checking Rd cross-references ... OK
* checking for missing documentation entries ... OK
* checking for code/documentation mismatches ... OK
* checking Rd \usage sections ... OK
* checking Rd contents ... OK
* checking for unstated dependencies in examples ... OK
* checking contents of 'data' directory ... OK
* checking data for non-ASCII characters ... OK
* checking data for ASCII and uncompressed saves ... OK
* checking examples ...
** running examples for arch 'i386' ... [28s] OK
Examples with CPU or elapsed time > 5s
             user system elapsed
crlmmResult 26.41   0.62   27.04
** running examples for arch 'x64' ... [26s] OK
Examples with CPU or elapsed time > 5s
             user system elapsed
crlmmResult 24.85   0.26   25.15
* checking PDF version of manual ... OK
NOTE: There was 1 note.
See
  'D:/biocbld/bbs-2.13-data-experiment/meat/hapmapsnp6.Rcheck/00check.log'
for details.
 
install for i386
* installing *source* package 'hapmapsnp6' ...
** R
** data
** inst
** preparing package for lazy loading
** help
*** installing help indices
** building package indices
** testing if installed package can be loaded
install for x64
* installing *source* package 'hapmapsnp6' ...
** testing if installed package can be loaded
* MD5 sums
packaged installation of 'hapmapsnp6' as hapmapsnp6_1.4.3.zip
* DONE (hapmapsnp6)