DREAM4 0.99.18 Paul Shannon
 | Snapshot Date: 2014-04-04 06:15:32 -0700 (Fri, 04 Apr 2014) |  | URL: https://hedgehog.fhcrc.org/bioc-data/branches/RELEASE_2_13/experiment/pkgs/DREAM4 |  | Last Changed Rev: 2533 / Revision: 2768 |  | Last Changed Date: 2013-10-14 15:00:20 -0700 (Mon, 14 Oct 2013) |  
  | zin1  | Linux (Ubuntu 12.04.4 LTS) / x86_64  |  OK  |  OK  |  | 
| moscato1  | Windows Server 2008 R2 Enterprise SP1 (64-bit) / x64  |  OK  |  OK  | [ OK ] | 
| perceval  | Mac OS X Snow Leopard (10.6.8) / x86_64  |  OK  |  OK  |  OK  | 
  adding: data/ (256 bytes security) (stored 0%)
  adding: data/datalist (188 bytes security) (deflated 68%)
  adding: data/dream4_010_01.RData (188 bytes security) (stored 0%)
  adding: data/dream4_010_02.RData (188 bytes security) (stored 0%)
  adding: data/dream4_010_03.RData (188 bytes security) (stored 0%)
  adding: data/dream4_010_04.RData (188 bytes security) (stored 0%)
  adding: data/dream4_010_05.RData (188 bytes security) (stored 0%)
  adding: data/dream4_100_01.RData (188 bytes security) (deflated 0%)
  adding: data/dream4_100_02.RData (188 bytes security) (deflated 0%)
  adding: data/dream4_100_03.RData (188 bytes security) (deflated 0%)
  adding: data/dream4_100_04.RData (188 bytes security) (deflated 0%)
  adding: data/dream4_100_05.RData (188 bytes security) (deflated 0%)
  adding: DESCRIPTION (188 bytes security) (deflated 38%)
  adding: doc/ (256 bytes security) (stored 0%)
  adding: doc/DREAM4.pdf (188 bytes security) (deflated 11%)
  adding: doc/DREAM4.R (188 bytes security) (deflated 78%)
  adding: doc/DREAM4.Rnw (188 bytes security) (deflated 63%)
  adding: doc/DREAM4_InSilico_Description.pdf (188 bytes security) (deflated 4%)
  adding: doc/index.html (188 bytes security) (deflated 59%)
  adding: extdata/ (256 bytes security) (stored 0%)
  adding: extdata/gs010-01-layout.RData (188 bytes security) (stored 0%)
  adding: extdata/lightlyProcessedDownloadedData.tar.gz (188 bytes security) (deflated 5%)
  adding: help/ (256 bytes security) (stored 0%)
  adding: help/aliases.rds (188 bytes security) (stored 0%)
  adding: help/AnIndex (188 bytes security) (deflated 75%)
  adding: help/DREAM4.rdb (188 bytes security) (stored 0%)
  adding: help/DREAM4.rdx (188 bytes security) (stored 0%)
  adding: help/paths.rds (188 bytes security) (stored 0%)
  adding: html/ (256 bytes security) (stored 0%)
  adding: html/00Index.html (188 bytes security) (deflated 75%)
  adding: html/R.css (188 bytes security) (deflated 70%)
  adding: INDEX (188 bytes security) (deflated 39%)
  adding: makefile (188 bytes security) (deflated 61%)
  adding: MD5 (188 bytes security) (deflated 45%)
  adding: Meta/ (256 bytes security) (stored 0%)
  adding: Meta/data.rds (188 bytes security) (stored 0%)
  adding: Meta/hsearch.rds (188 bytes security) (stored 0%)
  adding: Meta/links.rds (188 bytes security) (stored 0%)
  adding: Meta/nsInfo.rds (188 bytes security) (stored 0%)
  adding: Meta/package.rds (188 bytes security) (stored 0%)
  adding: Meta/Rd.rds (188 bytes security) (stored 0%)
  adding: Meta/vignette.rds (188 bytes security) (stored 0%)
  adding: NAMESPACE (188 bytes security) (deflated 9%)
  adding: scripts/ (256 bytes security) (stored 0%)
  adding: scripts/buildRData.R (188 bytes security) (deflated 74%)
  adding: scripts/README.txt (188 bytes security) (deflated 54%)
  adding: unitTests/ (256 bytes security) (stored 0%)
  adding: unitTests/test_DREAM4.R (188 bytes security) (deflated 80%)