| Back to the "Multiple platform build/check report" | 
This page was generated on 2013-10-08 16:07:31 -0700 (Tue, 08 Oct 2013).
| Package 67/156 | Hostname | OS / Arch | BUILD | CHECK | BUILD BIN | ||||
| hapmap100khind 1.4.2 Benilton Carvalho 
 | george2 | Linux (Ubuntu 12.04.1 LTS) / x86_64 | OK | OK | |||||
| moscato2 | Windows Server 2008 R2 Enterprise SP1 (64-bit) / x64 | OK | OK | OK | |||||
| petty | Mac OS X Snow Leopard (10.6.8) / x86_64 | [ OK ] | OK | OK | 
| Package: hapmap100khind | 
| Version: 1.4.2 | 
| Command: /Library/Frameworks/R.framework/Versions/Current/Resources/bin/R CMD build --keep-empty-dirs --no-resave-data hapmap100khind | 
| StartedAt: 2013-10-08 12:22:59 -0700 (Tue, 08 Oct 2013) | 
| EndedAt: 2013-10-08 12:24:34 -0700 (Tue, 08 Oct 2013) | 
| EllapsedTime: 95.0 seconds | 
| RetCode: 0 | 
| Status: OK | 
| PackageFile: hapmap100khind_1.4.2.tar.gz | 
| PackageFileSize: 38.05 MiB | 
* checking for file 'hapmap100khind/DESCRIPTION' ... OK * preparing 'hapmap100khind': * checking DESCRIPTION meta-information ... OK * checking for LF line-endings in source and make files * checking for empty or unneeded directories * building 'hapmap100khind_1.4.2.tar.gz'