| Back to the "Multiple platform build/check report" | 
This page was generated on 2013-10-08 16:07:21 -0700 (Tue, 08 Oct 2013).
| Package 59/156 | Hostname | OS / Arch | BUILD | CHECK | BUILD BIN | ||||
| gatingMLData 1.0.7 Nishant Gopalakrishnan 
 | george2 | Linux (Ubuntu 12.04.1 LTS) / x86_64 | OK | OK | |||||
| moscato2 | Windows Server 2008 R2 Enterprise SP1 (64-bit) / x64 | [ OK ] | OK | OK | |||||
| petty | Mac OS X Snow Leopard (10.6.8) / x86_64 | OK | OK | OK | 
| Package: gatingMLData | 
| Version: 1.0.7 | 
| Command: chmod a+r gatingMLData -R && E:\biocbld\bbs-2.12-bioc\R\bin\R.exe CMD build --keep-empty-dirs --no-resave-data gatingMLData | 
| StartedAt: 2013-10-08 12:28:00 -0700 (Tue, 08 Oct 2013) | 
| EndedAt: 2013-10-08 12:31:58 -0700 (Tue, 08 Oct 2013) | 
| EllapsedTime: 238.6 seconds | 
| RetCode: 0 | 
| Status: OK | 
| PackageFile: gatingMLData_1.0.7.tar.gz | 
| PackageFileSize: 1.79 MiB | 
* checking for file 'gatingMLData/DESCRIPTION' ... OK * preparing 'gatingMLData': * checking DESCRIPTION meta-information ... OK * checking for LF line-endings in source and make files * checking for empty or unneeded directories * building 'gatingMLData_1.0.7.tar.gz'