RIPSeekerData 0.99.1 Alejandro Reyes
 | Snapshot Date: 2013-10-08 10:15:19 -0700 (Tue, 08 Oct 2013) |  | URL: https://hedgehog.fhcrc.org/bioc-data/trunk/experiment/pkgs/RIPSeekerData |  | Last Changed Rev: 2441 / Revision: 2510 |  | Last Changed Date: 2013-09-09 10:13:28 -0700 (Mon, 09 Sep 2013) |  
  | george2  | Linux (Ubuntu 12.04.1 LTS) / x86_64  |  OK  |  OK  |  | 
| moscato2  | Windows Server 2008 R2 Enterprise SP1 (64-bit) / x64  |  OK  |  OK  |  OK  | 
| petty  | Mac OS X Snow Leopard (10.6.8) / x86_64  | [ OK ] |  OK  |  OK  | 
* checking for file 'RIPSeekerData/DESCRIPTION' ... OK
* preparing 'RIPSeekerData':
* checking DESCRIPTION meta-information ... OK
* installing the package to re-build vignettes
* creating vignettes ... OK
* checking for LF line-endings in source and make files
* checking for empty or unneeded directories
* building 'RIPSeekerData_0.99.1.tar.gz'