| Back to the "Multiple platform build/check report" | A B C D E [F] G H I J K L M N O P Q R S T U V W X Y Z | 
| Package 213/609 | Hostname | OS / Arch | BUILD | CHECK | BUILD BIN | ||||
| flowUtils 1.18.0 Nishant Gopalakrishnan 
 | lamb1 | Linux (openSUSE 12.1) / x86_64 | OK | OK | |||||
| moscato1 | Windows Server 2008 R2 Enterprise SP1 (64-bit) / x64 | [ OK ] | OK | OK | |||||
| perceval | Mac OS X Leopard (10.5.8) / i386 | OK | OK | OK | 
| Package: flowUtils | 
| Version: 1.18.0 | 
| Command: chmod a+r flowUtils -R && D:\biocbld\bbs-2.11-bioc\R\bin\R.exe CMD build --keep-empty-dirs --no-resave-data flowUtils | 
| StartedAt: 2013-03-24 22:07:05 -0700 (Sun, 24 Mar 2013) | 
| EndedAt: 2013-03-24 22:07:09 -0700 (Sun, 24 Mar 2013) | 
| EllapsedTime: 3.9 seconds | 
| RetCode: 0 | 
| Status: OK | 
| PackageFile: flowUtils_1.18.0.tar.gz | 
| PackageFileSize: 25.35 KiB | 
* checking for file 'flowUtils/DESCRIPTION' ... OK * preparing 'flowUtils': * checking DESCRIPTION meta-information ... OK * checking for LF line-endings in source and make files * checking for empty or unneeded directories * building 'flowUtils_1.18.0.tar.gz'