| MergeMaid 2.29.1 Xiaogang Zhong
 
 | Snapshot Date: 2012-06-20 15:22:40 -0700 (Wed, 20 Jun 2012) |  | URL: https://hedgehog.fhcrc.org/bioconductor/trunk/madman/Rpacks/MergeMaid |  | Last Changed Rev: 65297 / Revision: 66885 |  | Last Changed Date: 2012-04-19 14:49:02 -0700 (Thu, 19 Apr 2012) | 
 | lamb1 | Linux (openSUSE 12.1) / x86_64 | OK | WARNINGS |  | 
| moscato1 | Windows Server 2008 R2 Enterprise SP1 (64-bit) / x64 | OK | WARNINGS | OK | 
| pitt | Mac OS X Leopard (10.5.8) / i386 | OK | WARNINGS | [ OK ] | 
| perceval | Mac OS X Leopard (10.5.8) / i386 | OK | WARNINGS | OK | 
>>>>>>> 
>>>>>>> INSTALLATION WITH 'R CMD INSTALL --preclean --no-multiarch --library=MergeMaid.buildbin-libdir MergeMaid_2.29.1.tar.gz'
>>>>>>> 
* installing *source* package 'MergeMaid' ...
** R
** data
** inst
** preparing package for lazy loading
Creating a generic function for 'plot' from package 'graphics' in package 'MergeMaid'
Creating a generic function for 'hist' from package 'graphics' in package 'MergeMaid'
Creating a generic function for 'summary' from package 'base' in package 'MergeMaid'
** help
*** installing help indices
** building package indices
** installing vignettes
   'MergeMaid.Rnw' 
** testing if installed package can be loaded
* DONE (MergeMaid)