CNORfuzzy 1.0.0 T. Cokelaer
 | Snapshot Date: 2013-03-24 16:21:20 -0700 (Sun, 24 Mar 2013) |  | URL: https://hedgehog.fhcrc.org/bioconductor/branches/RELEASE_2_11/madman/Rpacks/CNORfuzzy |  | Last Changed Rev: 70050 / Revision: 74773 |  | Last Changed Date: 2012-10-01 15:16:24 -0700 (Mon, 01 Oct 2012) |  
  | lamb1  | Linux (openSUSE 12.1) / x86_64  |  OK  |  OK  |  | 
| moscato1  | Windows Server 2008 R2 Enterprise SP1 (64-bit) / x64  |  OK  |  OK  | [ OK ] | 
| perceval  | Mac OS X Leopard (10.5.8) / i386  |  OK  |  OK  |  OK  | 
install for i386
* installing *source* package 'CNORfuzzy' ...
** R
** inst
** preparing package for lazy loading
** help
*** installing help indices
** building package indices
** installing vignettes
   'CNORfuzzy-vignette.Rnw' using 'UTF-8' 
** testing if installed package can be loaded
install for x64
* installing *source* package 'CNORfuzzy' ...
** testing if installed package can be loaded
* MD5 sums
packaged installation of 'CNORfuzzy' as CNORfuzzy_1.0.0.zip
* DONE (CNORfuzzy)