| BigMatrix 0.99.0 Peter M. Haverty
 
 | Snapshot Date: 2012-09-22 16:21:42 -0700 (Sat, 22 Sep 2012) |  | URL: https://hedgehog.fhcrc.org/bioconductor/trunk/madman/Rpacks/BigMatrix |  | Last Changed Rev: 69381 / Revision: 69699 |  | Last Changed Date: 2012-09-12 11:57:22 -0700 (Wed, 12 Sep 2012) | 
 | lamb1 | Linux (openSUSE 12.1) / x86_64 | OK | OK |  | 
| moscato1 | Windows Server 2008 R2 Enterprise SP1 (64-bit) / x64 | OK | OK | OK | 
| perceval | Mac OS X Leopard (10.5.8) / i386 | OK | OK | [ OK ] | 
>>>>>>> 
>>>>>>> INSTALLATION WITH 'R CMD INSTALL --preclean --no-multiarch --library=BigMatrix.buildbin-libdir BigMatrix_0.99.0.tar.gz'
>>>>>>> 
* installing *source* package 'BigMatrix' ...
** R
** inst
** byte-compile and prepare package for lazy loading
Creating a generic function for 'levels' from package 'base' in package 'BigMatrix'
Creating a generic function for 'nlevels' from package 'base' in package 'BigMatrix'
Note: no visible binding for '<<-' assignment to '.->.bm' 
Note: no visible binding for '<<-' assignment to '.->descpath' 
Note: no visible binding for '<<-' assignment to '.->.bm' 
Note: no visible binding for '<<-' assignment to '.->descpath' 
Note: no visible binding for '<<-' assignment to '.->levels' 
** help
*** installing help indices
** building package indices
** installing vignettes
   'BigMatrix.Rnw' 
** testing if installed package can be loaded
* DONE (BigMatrix)