| Back to the "Multiple platform build/check report" | 
| Package 59/122 | Hostname | OS / Arch | BUILD | CHECK | BUILD BIN | ||||
| hapmapsnp5 1.3.6 Benilton Carvalho 
 | lamb2 | Linux (openSUSE 11.4) / x86_64 | OK | OK | |||||
| moscato2 | Windows Server 2008 R2 Enterprise SP1 (64-bit) / x64 | [ OK ] | OK | OK | |||||
| petty | Mac OS X Leopard (10.5.8) / i386 | OK | OK | OK | 
| Package: hapmapsnp5 | 
| Version: 1.3.6 | 
| Command: chmod a+r hapmapsnp5 -R && E:\biocbld\bbs-2.10-bioc\R\bin\R.exe CMD build --keep-empty-dirs --no-resave-data hapmapsnp5 | 
| StartedAt: 2012-09-23 12:07:55 -0700 (Sun, 23 Sep 2012) | 
| EndedAt: 2012-09-23 12:08:47 -0700 (Sun, 23 Sep 2012) | 
| EllapsedTime: 52.5 seconds | 
| RetCode: 0 | 
| Status: OK | 
| PackageFile: hapmapsnp5_1.3.6.tar.gz | 
| PackageFileSize: 61.65 MiB | 
* checking for file 'hapmapsnp5/DESCRIPTION' ... OK * preparing 'hapmapsnp5': * checking DESCRIPTION meta-information ... OK * checking for LF line-endings in source and make files * checking for empty or unneeded directories * building 'hapmapsnp5_1.3.6.tar.gz'