| Back to the "Multiple platform build/check report" |
| Package 56/122 | Hostname | OS / Arch | BUILD | CHECK | BUILD BIN | ||||
| hapmap100kxba 1.3.6 Benilton Carvalho
| lamb2 | Linux (openSUSE 11.4) / x86_64 | [ OK ] | OK | |||||
| moscato2 | Windows Server 2008 R2 Enterprise SP1 (64-bit) / x64 | OK | OK | OK | |||||
| petty | Mac OS X Leopard (10.5.8) / i386 | OK | OK | OK |
| Package: hapmap100kxba |
| Version: 1.3.6 |
| Command: /home/biocbuild/bbs-2.10-bioc/R/bin/R CMD build --keep-empty-dirs --no-resave-data hapmap100kxba |
| StartedAt: 2012-09-23 11:39:21 -0700 (Sun, 23 Sep 2012) |
| EndedAt: 2012-09-23 11:39:34 -0700 (Sun, 23 Sep 2012) |
| EllapsedTime: 12.8 seconds |
| RetCode: 0 |
| Status: OK |
| PackageFile: hapmap100kxba_1.3.6.tar.gz |
| PackageFileSize: 39.62 MiB |
* checking for file ‘hapmap100kxba/DESCRIPTION’ ... OK * preparing ‘hapmap100kxba’: * checking DESCRIPTION meta-information ... OK * checking for LF line-endings in source and make files * checking for empty or unneeded directories * building ‘hapmap100kxba_1.3.6.tar.gz’