| gaschYHS 1.0.9 Vince Carey
 
 | Snapshot Date: 2012-09-23 10:15:26 -0700 (Sun, 23 Sep 2012) |  | URL: https://hedgehog.fhcrc.org/bioc-data/trunk/experiment/pkgs/gaschYHS |  | Last Changed Rev: 2046 / Revision: 2159 |  | Last Changed Date: 2012-04-23 07:41:34 -0700 (Mon, 23 Apr 2012) | 
 | lamb2 | Linux (openSUSE 11.4) / x86_64 | [ OK ] | OK |  | 
| moscato2 | Windows Server 2008 R2 Enterprise SP1 (64-bit) / x64 | OK | OK | OK | 
| petty | Mac OS X Leopard (10.5.8) / i386 | OK | OK | OK | 
* checking for file ‘gaschYHS/DESCRIPTION’ ... OK
* preparing ‘gaschYHS’:
* checking DESCRIPTION meta-information ... OK
* checking for LF line-endings in source and make files
* checking for empty or unneeded directories
* looking to see if a ‘data/datalist’ file should be added
* building ‘gaschYHS_1.0.9.tar.gz’