RNASeqDataSubset 0.99.0 D. Bindreither
 | Snapshot Date: 2012-08-01 10:15:23 -0700 (Wed, 01 Aug 2012) |  | URL: https://hedgehog.fhcrc.org/bioc-data/trunk/experiment/pkgs/RNASeqDataSubset |  | Last Changed Rev: 2110 / Revision: 2112 |  | Last Changed Date: 2012-07-30 14:31:34 -0700 (Mon, 30 Jul 2012) |  
  | lamb2  | Linux (openSUSE 11.4) / x86_64  | [ ERROR ] |  skipped  |  | 
| moscato2  | Windows Server 2008 R2 Enterprise SP1 (64-bit) / x64  |  ERROR  |  skipped  |  skipped  | 
| petty  | Mac OS X Leopard (10.5.8) / i386  |  ERROR  |  skipped  |  skipped  | 
* checking for file ‘RNASeqDataSubset/DESCRIPTION’ ... OK
* preparing ‘RNASeqDataSubset’:
* checking DESCRIPTION meta-information ... OK
* installing the package to re-build vignettes
      -----------------------------------
* installing *source* package ‘RNASeqDataSubset’ ...
** R
** inst
** preparing package for lazy loading
Error : package ‘Rsamtools’ 1.8.5 was found, but >= 1.9.8 is required by ‘RNASeqDataSubset’
ERROR: lazy loading failed for package ‘RNASeqDataSubset’
* removing ‘/tmp/RtmpnYTE17/Rinst62b65efca512/RNASeqDataSubset’
      -----------------------------------
ERROR: package installation failed