BeadArrayUseCases 1.0.8 Mike Smith
 | Snapshot Date: 2012-09-23 10:15:26 -0700 (Sun, 23 Sep 2012) |  | URL: https://hedgehog.fhcrc.org/bioc-data/trunk/experiment/pkgs/BeadArrayUseCases |  | Last Changed Rev: 2037 / Revision: 2159 |  | Last Changed Date: 2012-03-30 15:20:09 -0700 (Fri, 30 Mar 2012) |  
  | lamb2  | Linux (openSUSE 11.4) / x86_64  |  OK  |  OK  |  | 
| moscato2  | Windows Server 2008 R2 Enterprise SP1 (64-bit) / x64  |  OK  |  OK  | [ OK ] | 
| petty  | Mac OS X Leopard (10.5.8) / i386  |  OK  |  OK  |  OK  | 
install for i386
* installing *source* package 'BeadArrayUseCases' ...
** inst
** help
No man pages found in package  'BeadArrayUseCases' 
*** installing help indices
** building package indices
** installing vignettes
   'BeadArrayUseCases.rnw' using 'UTF-8' 
** testing if installed package can be loaded
Warning: replacing previous import 'imageplot' when loading 'limma'
Warning: replacing previous import 'show' when loading 'limma'
install for x64
* installing *source* package 'BeadArrayUseCases' ...
** testing if installed package can be loaded
Warning: replacing previous import 'imageplot' when loading 'limma'
Warning: replacing previous import 'show' when loading 'limma'
* MD5 sums
packaged installation of 'BeadArrayUseCases' as BeadArrayUseCases_1.0.8.zip
* DONE (BeadArrayUseCases)