phyloseq 1.0.3 Paul J. McMurdie
 | Snapshot Date: 2012-09-23 17:01:39 -0700 (Sun, 23 Sep 2012) |  | URL: https://hedgehog.fhcrc.org/bioconductor/branches/RELEASE_2_10/madman/Rpacks/phyloseq |  | Last Changed Rev: 69344 / Revision: 69725 |  | Last Changed Date: 2012-09-11 17:07:57 -0700 (Tue, 11 Sep 2012) |  
  | lamb2  | Linux (openSUSE 11.4) / x86_64  | [ OK ] |  OK  |  | 
| moscato2  | Windows Server 2008 R2 Enterprise SP1 (64-bit) / x64  |  OK  |  OK  |  OK  | 
| petty  | Mac OS X Leopard (10.5.8) / i386  |  OK  |  OK  |  OK  | 
* checking for file ‘phyloseq/DESCRIPTION’ ... OK
* preparing ‘phyloseq’:
* checking DESCRIPTION meta-information ... OK
* installing the package to re-build vignettes
* creating vignettes ... OK
* checking for LF line-endings in source and make files
* checking for empty or unneeded directories
* looking to see if a ‘data/datalist’ file should be added
* building ‘phyloseq_1.0.3.tar.gz’