Repitools 1.2.0 Mark Robinson
 | Snapshot Date: 2012-09-23 17:01:39 -0700 (Sun, 23 Sep 2012) |  | URL: https://hedgehog.fhcrc.org/bioconductor/branches/RELEASE_2_10/madman/Rpacks/Repitools |  | Last Changed Rev: 64678 / Revision: 69725 |  | Last Changed Date: 2012-03-30 15:05:02 -0700 (Fri, 30 Mar 2012) |  
  | lamb2  | Linux (openSUSE 11.4) / x86_64  |  OK  |  OK  |  | 
| moscato2  | Windows Server 2008 R2 Enterprise SP1 (64-bit) / x64  |  OK  |  OK  | [ OK ] | 
| petty  | Mac OS X Leopard (10.5.8) / i386  |  OK  |  OK  |  OK  | 
install for i386
* installing *source* package 'Repitools' ...
** R
** data
** inst
** preparing package for lazy loading
in method for '.featureScores' with signature '"AffymetrixCelSet","GRanges"': no definition for class "AffymetrixCelSet"
in method for 'regionStats' with signature '"AffymetrixCelSet"': no definition for class "AffymetrixCelSet"
in method for 'writeWig' with signature '"AffymetrixCelSet"': no definition for class "AffymetrixCelSet"
in method for 'cpgBoxplots' with signature '"AffymetrixCelSet"': no definition for class "AffymetrixCelSet"
in method for '.blocksStats' with signature '"AffymetrixCelSet","GRanges"': no definition for class "AffymetrixCelSet"
** help
*** installing help indices
** building package indices
** installing vignettes
   'Repitools_vignette.Rnw' using 'UTF-8' 
** testing if installed package can be loaded
install for x64
* installing *source* package 'Repitools' ...
** testing if installed package can be loaded
* MD5 sums
packaged installation of 'Repitools' as Repitools_1.2.0.zip
* DONE (Repitools)