SNAData 1.8.0 Denise Scholtens
 | Snapshot Date: 2008-04-10 00:02:38 -0700 (Thu, 10 Apr 2008) |  | URL: https://hedgehog.fhcrc.org/bioc-data/trunk/experiment/pkgs/SNAData |  | Last Changed Rev: 142 / Revision: 624 |  | Last Changed Date: 2006-09-28 18:17:09 -0700 (Thu, 28 Sep 2006) |  
  | lamb1  | Linux (SUSE 10.1) / x86_64  |  OK  |  OK  |  | 
| lemming  | Windows Server 2003 (32-bit) / x64  |  OK  |  OK  |  OK  | 
| pitt  | Mac OS X Tiger (10.4.11) / i386  |  OK  |  OK  | [ OK ] | 
                INSTALLATION WITH 'R CMD INSTALL SNAData_1.8.0.tar.gz'
* Installing to library 'SNAData.buildbin-libdir'
* Installing *source* package 'SNAData' ...
** R
** data
** inst
** help
 >>> Building/Updating help pages for package 'SNAData'
     Formats: text html latex example 
  CEOclubs                          text    html    latex   example
  Countries                         text    html    latex   example
  Florentine                        text    html    latex   example
  Freeman                           text    html    latex   example
  Krackhardt                        text    html    latex   example
** building package indices ...
* DONE (SNAData)