| Back to the "Multiple platform build/check report" | 
| Package 5/55 | Hostname | OS / Arch | BUILD | CHECK | BUILD BIN | ||||
| AmpAffyExample 1.2.2 Rafael A. Irizarry 
 | lamb1 | Linux (SUSE 10.1) / x86_64 | [ OK ] | OK | |||||
| lemming | Windows Server 2003 (32-bit) / x64 | OK | OK | OK | |||||
| pitt | Mac OS X Tiger (10.4.11) / i386 | OK | OK | OK | 
| Package: AmpAffyExample | 
| Version: 1.2.2 | 
| Command: /home/biocbuild/bbs-2.1-bioc/R/bin/R CMD build AmpAffyExample | 
| StartedAt: 2008-04-10 00:50:39 -0700 (Thu, 10 Apr 2008) | 
| EndedAt: 2008-04-10 00:50:41 -0700 (Thu, 10 Apr 2008) | 
| EllapsedTime: 2.0 seconds | 
| RetCode: 0 | 
| Status: OK | 
| PackageFile: AmpAffyExample_1.2.2.tar.gz | 
| PackageFileSize: 6.464 MiB | 
* checking for file 'AmpAffyExample/DESCRIPTION' ... OK * preparing 'AmpAffyExample': * checking DESCRIPTION meta-information ... OK * removing junk files * checking for LF line-endings in source and make files * checking for empty or unneeded directories * building 'AmpAffyExample_1.2.2.tar.gz'