| ALLMLL 1.2.2 B. M. Bolstad
 
 | Snapshot Date: 2008-04-10 00:02:38 -0700 (Thu, 10 Apr 2008) |  | URL: https://hedgehog.fhcrc.org/bioc-data/trunk/experiment/pkgs/ALLMLL |  | Last Changed Rev: 253 / Revision: 624 |  | Last Changed Date: 2007-04-15 13:06:52 -0700 (Sun, 15 Apr 2007) | 
 | lamb1 | Linux (SUSE 10.1) / x86_64 | OK | OK |  | 
| lemming | Windows Server 2003 (32-bit) / x64 | OK | OK | [ OK ] | 
| pitt | Mac OS X Tiger (10.4.11) / i386 | OK | OK | OK | 
installing R.css in D:/biocbld/bbs-2.1-data-experiment/meat/ALLMLL.buildbin-libdir
Using auto-selected zip options 'ALLMLL-ZIPDATA=zip'
---------- Making package ALLMLL ------------
  adding build stamp to DESCRIPTION
  no R files in this package
  installing data files
  installing man source files
  installing indices
  zipping data
  installing help
 >>> Building/Updating help pages for package 'ALLMLL'
     Formats: text html latex example chm 
  MLL                               text    html    latex           chm
Microsoft HTML Help Compiler 4.74.8702
Compiling d:\biocbld\bbs-2.1-data-experiment\meat\R.INSTALL.4152\ALLMLL\chm\ALLMLL.chm
Compile time: 0 minutes, 0 seconds
2	Topics
3	Local links
0	Internet links
1	Graphic
Created d:\biocbld\bbs-2.1-data-experiment\meat\R.INSTALL.4152\ALLMLL\chm\ALLMLL.chm, 16,497 bytes
Compression increased file by 8,855 bytes.
  adding MD5 sums
packaged installation of package 'ALLMLL' as ALLMLL_1.2.2.zip
* DONE (ALLMLL)