| ppiData 0.1.10 Tony Chiang
 
 | Snapshot Date: 2008-04-10 00:02:38 -0700 (Thu, 10 Apr 2008) |  | URL: https://hedgehog.fhcrc.org/bioc-data/trunk/experiment/pkgs/ppiData |  | Last Changed Rev: 608 / Revision: 624 |  | Last Changed Date: 2008-04-06 15:50:45 -0700 (Sun, 06 Apr 2008) | 
 | lamb1 | Linux (SUSE 10.1) / x86_64 | OK | OK |  | 
| lemming | Windows Server 2003 (32-bit) / x64 | OK | OK | OK | 
| pitt | Mac OS X Tiger (10.4.11) / i386 | OK | OK | [ OK ] | 
                INSTALLATION WITH 'R CMD INSTALL ppiData_0.1.10.tar.gz'
* Installing to library 'ppiData.buildbin-libdir'
* Installing *source* package 'ppiData' ...
** R
** data
**  moving datasets to lazyload DB
** inst
** preparing package for lazy loading
Loading required package: Rgraphviz
Loading required package: graph
** help
 >>> Building/Updating help pages for package 'ppiData'
     Formats: text html latex example 
  Cagney2001BPGraph                 text    html    latex   example
  Gavin2002BPGraph                  text    html    latex   example
  Gavin2006bPGraph                  text    html    latex   example
  Hazbun2003BPGraph                 text    html    latex   example
  Ho2002BPGraph                     text    html    latex   example
  Ito2001BPGraph                    text    html    latex   example
  ItoCore2001BPGraph                text    html    latex   example
  ItoFull2001BPGraph                text    html    latex   example
  Krogan2004BPGraph                 text    html    latex   example
  Krogan2006BPGraph                 text    html    latex   example
  Tong2002BPGraph                   text    html    latex   example
  Uetz2000BPGraph1                  text    html    latex   example
  Uetz2000BPGraph2                  text    html    latex   example
  Zhao2005BPGraph                   text    html    latex   example
  bpExperimentNames                 text    html    latex   example
  collectIntactPPIData              text    html    latex   example
  createBPList                      text    html    latex   example
  intAct2Sys                        text    html    latex   example
  intActPPIData                     text    html    latex   example
  map2Systematic                    text    html    latex   example
  map2Systematic2                   text    html    latex
  ppipred                           text    html    latex   example
  proteinProperty                   text    html    latex   example
  sWAC2Sys                          text    html    latex   example
  stochasticBaits                   text    html    latex   example
  tableList                         text    html    latex   example
  twTableAPMS                       text    html    latex   example
  twTableY2H                        text    html    latex   example
  viableProteins                    text    html    latex   example
  y2h                               text    html    latex   example
  y2hSysGW                          text    html    latex   example
** building package indices ...
* DONE (ppiData)