| Back to the "Multiple platform build/check report" | 
| Package 40/55 | Hostname | OS / Arch | BUILD | CHECK | BUILD BIN | ||||
| msdata 0.1.1 Steffen Neumann 
 | lamb1 | Linux (SUSE 10.1) / x86_64 | [ OK ] | ERROR | |||||
| lemming | Windows Server 2003 (32-bit) / x64 | OK | ERROR | OK | |||||
| pitt | Mac OS X Tiger (10.4.11) / i386 | OK | ERROR | OK | 
| Package: msdata | 
| Version: 0.1.1 | 
| Command: /home/biocbuild/bbs-2.1-bioc/R/bin/R CMD build msdata | 
| StartedAt: 2008-04-10 01:04:28 -0700 (Thu, 10 Apr 2008) | 
| EndedAt: 2008-04-10 01:04:35 -0700 (Thu, 10 Apr 2008) | 
| EllapsedTime: 7.5 seconds | 
| RetCode: 0 | 
| Status: OK | 
| PackageFile: msdata_0.1.1.tar.gz | 
| PackageFileSize: 6.614 MiB | 
* checking for file 'msdata/DESCRIPTION' ... OK * preparing 'msdata': * checking DESCRIPTION meta-information ... OK * removing junk files * checking for LF line-endings in source and make files * checking for empty or unneeded directories * building 'msdata_0.1.1.tar.gz'