| maqcExpression4plex 1.2 Benilton Carvalho
 
 | Snapshot Date: 2008-04-10 00:02:38 -0700 (Thu, 10 Apr 2008) |  | URL: https://hedgehog.fhcrc.org/bioc-data/trunk/experiment/pkgs/maqcExpression4plex |  | Last Changed Rev: 399 / Revision: 624 |  | Last Changed Date: 2007-07-28 14:59:14 -0700 (Sat, 28 Jul 2007) | 
 | lamb1 | Linux (SUSE 10.1) / x86_64 | OK | OK |  | 
| lemming | Windows Server 2003 (32-bit) / x64 | OK | OK | OK | 
| pitt | Mac OS X Tiger (10.4.11) / i386 | OK | OK | [ OK ] | 
                INSTALLATION WITH 'R CMD INSTALL maqcExpression4plex_1.2.tar.gz'
* Installing to library 'maqcExpression4plex.buildbin-libdir'
* Installing *source* package 'maqcExpression4plex' ...
** R
** inst
** help
 >>> Building/Updating help pages for package 'maqcExpression4plex'
     Formats: text html latex example 
  maqcExpression4plex-package       text    html    latex   example
** building package indices ...
* DONE (maqcExpression4plex)