| hgu2beta7 1.2.1 Biocore Team c/o BioC user list
 
 | Snapshot Date: 2008-04-10 00:02:38 -0700 (Thu, 10 Apr 2008) |  | URL: https://hedgehog.fhcrc.org/bioc-data/trunk/experiment/pkgs/hgu2beta7 |  | Last Changed Rev: 453 / Revision: 624 |  | Last Changed Date: 2007-09-10 10:29:54 -0700 (Mon, 10 Sep 2007) | 
 | lamb1 | Linux (SUSE 10.1) / x86_64 | OK | OK |  | 
| lemming | Windows Server 2003 (32-bit) / x64 | OK | OK | OK | 
| pitt | Mac OS X Tiger (10.4.11) / i386 | OK | OK | [ OK ] | 
                INSTALLATION WITH 'R CMD INSTALL hgu2beta7_1.2.1.tar.gz'
* Installing to library 'hgu2beta7.buildbin-libdir'
* Installing *source* package 'hgu2beta7' ...
** R
** data
**  moving datasets to lazyload DB
** help
 >>> Building/Updating help pages for package 'hgu2beta7'
     Formats: text html latex example 
  hgu2beta7                         text    html    latex
  hgu2beta7ACCNUM                   text    html    latex   example
  hgu2beta7CHR                      text    html    latex   example
  hgu2beta7CHRLENGTHS               text    html    latex   example
  hgu2beta7CHRLOC                   text    html    latex   example
  hgu2beta7ENZYME                   text    html    latex   example
  hgu2beta7ENZYME2PROBE             text    html    latex   example
  hgu2beta7GENENAME                 text    html    latex   example
  hgu2beta7GO                       text    html    latex   example
  hgu2beta7GO2ALLPROBES             text    html    latex   example
  hgu2beta7GO2PROBE                 text    html    latex   example
  hgu2beta7GRIF                     text    html    latex   example
  hgu2beta7LOCUSID                  text    html    latex   example
  hgu2beta7MAP                      text    html    latex   example
  hgu2beta7OMIM                     text    html    latex   example
  hgu2beta7ORGANISM                 text    html    latex   example
  hgu2beta7PATH                     text    html    latex   example
  hgu2beta7PATH2PROBE               text    html    latex   example
  hgu2beta7PMID                     text    html    latex   example
  hgu2beta7PMID2PROBE               text    html    latex   example
  hgu2beta7QC                       text    html    latex
  hgu2beta7REFSEQ                   text    html    latex   example
  hgu2beta7SUMFUNC                  text    html    latex   example
  hgu2beta7SYMBOL                   text    html    latex   example
  hgu2beta7UNIGENE                  text    html    latex   example
** building package indices ...
* DONE (hgu2beta7)