| Back to the "Multiple platform build/check report" | 
| Package 6/55 | Hostname | OS / Arch | BUILD | CHECK | BUILD BIN | ||||
| beta7 0.6.0 Jean Yang 
 | lamb1 | Linux (SUSE 10.1) / x86_64 | [ OK ] | OK | |||||
| lemming | Windows Server 2003 (32-bit) / x64 | OK | OK | OK | |||||
| pitt | Mac OS X Tiger (10.4.11) / i386 | OK | OK | OK | 
| Package: beta7 | 
| Version: 0.6.0 | 
| Command: /home/biocbuild/bbs-2.1-bioc/R/bin/R CMD build beta7 | 
| StartedAt: 2008-04-10 00:50:40 -0700 (Thu, 10 Apr 2008) | 
| EndedAt: 2008-04-10 00:50:49 -0700 (Thu, 10 Apr 2008) | 
| EllapsedTime: 8.7 seconds | 
| RetCode: 0 | 
| Status: OK | 
| PackageFile: beta7_0.6.0.tar.gz | 
| PackageFileSize: 15.18 MiB | 
* checking for file 'beta7/DESCRIPTION' ... OK * preparing 'beta7': * checking DESCRIPTION meta-information ... OK * removing junk files * checking for LF line-endings in source and make files * checking for empty or unneeded directories * building 'beta7_0.6.0.tar.gz'