| affydata 1.11.3 Laurent
 
 | Snapshot Date: 2008-04-10 00:02:38 -0700 (Thu, 10 Apr 2008) |  | URL: https://hedgehog.fhcrc.org/bioc-data/trunk/experiment/pkgs/affydata |  | Last Changed Rev: 410 / Revision: 624 |  | Last Changed Date: 2007-08-07 18:27:33 -0700 (Tue, 07 Aug 2007) | 
 | lamb1 | Linux (SUSE 10.1) / x86_64 | [ OK ] | OK |  | 
| lemming | Windows Server 2003 (32-bit) / x64 | OK | OK | OK | 
| pitt | Mac OS X Tiger (10.4.11) / i386 | OK | OK | OK | 
* checking for file 'affydata/DESCRIPTION' ... OK
* preparing 'affydata':
* checking DESCRIPTION meta-information ... OK
* installing the package to re-build vignettes
* Installing *source* package 'affydata' ...
** R
** data
** inst
** help
 >>> Building/Updating help pages for package 'affydata'
     Formats: text html latex example 
  Dilution                          text    html    latex
** building package indices ...
* DONE (affydata)
* creating vignettes ... OK
* removing junk files
* checking for LF line-endings in source and make files
* checking for empty or unneeded directories
* building 'affydata_1.11.3.tar.gz'