| Back to the "Multiple platform build/check report" | 
| Package 43/55 | Hostname | OS / Arch | BUILD | CHECK | BUILD BIN | ||||
| ProData 0.4.1 Xiaochun Li 
 | lamb1 | Linux (SUSE 10.1) / x86_64 | OK | OK | |||||
| lemming | Windows Server 2003 (32-bit) / x64 | OK | OK | OK | |||||
| pitt | Mac OS X Tiger (10.4.11) / i386 | [ OK ] | OK | OK | 
| Package: ProData | 
| Version: 0.4.1 | 
| Command: /Library/Frameworks/R.framework/Resources/bin/R CMD build ProData | 
| StartedAt: 2008-04-10 00:58:57 -0700 (Thu, 10 Apr 2008) | 
| EndedAt: 2008-04-10 00:59:01 -0700 (Thu, 10 Apr 2008) | 
| EllapsedTime: 4.8 seconds | 
| RetCode: 0 | 
| Status: OK | 
| PackageFile: ProData_0.4.1.tar.gz | 
| PackageFileSize: 19.05 MiB | 
* checking for file 'ProData/DESCRIPTION' ... OK * preparing 'ProData': * checking DESCRIPTION meta-information ... OK * removing junk files * checking for LF line-endings in source and make files * checking for empty or unneeded directories * building 'ProData_0.4.1.tar.gz'