MEEBOdata 1.0.0 Agnes Paquet
 | Snapshot Date: 2008-04-10 00:02:38 -0700 (Thu, 10 Apr 2008) |  | URL: https://hedgehog.fhcrc.org/bioc-data/trunk/experiment/pkgs/MEEBOdata |  | Last Changed Rev: 142 / Revision: 624 |  | Last Changed Date: 2006-09-28 18:17:09 -0700 (Thu, 28 Sep 2006) |  
  | lamb1  | Linux (SUSE 10.1) / x86_64  |  OK  | [ OK ] |  | 
| lemming  | Windows Server 2003 (32-bit) / x64  |  OK  |  OK  |  OK  | 
| pitt  | Mac OS X Tiger (10.4.11) / i386  |  OK  |  OK  |  OK  | 
* checking for working latex ... OK
* using log directory '/home/biocbuild/bbs-2.1-data-experiment/meat/MEEBOdata.Rcheck'
* using R version 2.6.2 (2008-02-08)
* checking for file 'MEEBOdata/DESCRIPTION' ... OK
* checking extension type ... Package
* this is package 'MEEBOdata' version '1.0.0'
* checking package dependencies ... OK
* checking if this is a source package ... OK
* checking whether package 'MEEBOdata' can be installed ... OK
* checking package directory ... OK
* checking for portable file names ... OK
* checking for sufficient/correct file permissions ... OK
* checking DESCRIPTION meta-information ... OK
* checking top-level files ... OK
* checking index information ... OK
* checking package subdirectories ... OK
* checking whether the package can be loaded ... OK
* checking whether the package can be loaded with stated dependencies ... OK
* checking Rd files ... OK
* checking Rd cross-references ... OK
* checking for missing documentation entries ... OK
* checking for code/documentation mismatches ... OK
* checking Rd \usage sections ... OK
* checking data for non-ASCII characters ... OK
* creating MEEBOdata-Ex.R ... OK
* checking examples ... OK
* creating MEEBOdata-manual.tex ... OK
* checking MEEBOdata-manual.tex ... OK