| CLL 1.2.4 Robert Gentleman
 
 | Snapshot Date: 2008-04-10 00:02:38 -0700 (Thu, 10 Apr 2008) |  | URL: https://hedgehog.fhcrc.org/bioc-data/trunk/experiment/pkgs/CLL |  | Last Changed Rev: 483 / Revision: 624 |  | Last Changed Date: 2007-10-05 13:29:00 -0700 (Fri, 05 Oct 2007) | 
 | lamb1 | Linux (SUSE 10.1) / x86_64 | OK | OK |  | 
| lemming | Windows Server 2003 (32-bit) / x64 | OK | OK | OK | 
| pitt | Mac OS X Tiger (10.4.11) / i386 | OK | OK | [ OK ] | 
                INSTALLATION WITH 'R CMD INSTALL CLL_1.2.4.tar.gz'
* Installing to library 'CLL.buildbin-libdir'
* Installing *source* package 'CLL' ...
** R
** data
** help
 >>> Building/Updating help pages for package 'CLL'
     Formats: text html latex example 
  CLL-package                       text    html    latex   example
  CLLbatch                          text    html    latex   example
  disease                           text    html    latex   example
  nsFilter                          text    html    latex   example
  sCLLex                            text    html    latex   example
  sFiltert                          text    html    latex   example
  sFiltertBH                        text    html    latex   example
** building package indices ...
* DONE (CLL)