| widgetTools 1.14.0 Jianhua Zhang
 
 | Snapshot Date: 2008-04-09 12:13:20 -0700 (Wed, 09 Apr 2008) |  | URL: https://hedgehog.fhcrc.org/bioconductor/branches/RELEASE_2_1/madman/Rpacks/widgetTools |  | Last Changed Rev: 27709 / Revision: 30966 |  | Last Changed Date: 2007-10-02 17:41:09 -0700 (Tue, 02 Oct 2007) | 
 | lamb1 | Linux (SUSE 10.1) / x86_64 | OK | OK |  | 
| wilson2 | Linux (openSUSE 10.3) / x86_64 | OK | OK |  | 
| wellington | Linux (openSUSE 10.3) / i686 | OK | OK |  | 
| liverpool | Windows Server 2003 R2 (32-bit) / x64 | OK | OK | OK | 
| lemming | Windows Server 2003 (32-bit) / x64 | OK | OK | OK | 
| pitt | Mac OS X Tiger (10.4.11) / i386 | [ OK ] | OK | OK | 
* checking for file 'widgetTools/DESCRIPTION' ... OK
* preparing 'widgetTools':
* checking DESCRIPTION meta-information ... OK
* installing the package to re-build vignettes
* Installing *source* package 'widgetTools' ...
** R
** inst
** preparing package for lazy loading
Loading required package: tcltk
Loading Tcl/Tk interface ... done
** help
 >>> Building/Updating help pages for package 'widgetTools'
     Formats: text html latex example 
  basicPW-class                     text    html    latex   example
  button                            text    html    latex   example
  dropdownList                      text    html    latex   example
  makeViewer                        text    html    latex   example
  oneVScrList                       text    html    latex   example
  safeFileOpen                      text    html    latex   example
  tooltip                           text    html    latex   example
  widget-class                      text    html    latex   example
  widgetView-class                  text    html    latex   example
  writeText                         text    html    latex   example
** building package indices ...
* DONE (widgetTools)
* creating vignettes ... OK
* removing junk files
* checking for LF line-endings in source and make files
* checking for empty or unneeded directories
* building 'widgetTools_1.14.0.tar.gz'