Back to the "Multiple platform build/check report"
| Package 18/48 | Hostname | OS | Arch | BUILD | CHECK | BUILD BIN |
golubEsets1.4.3Vince CareyLast Changed Date: 2007-04-15 17:50:05 -0700 Last Changed Rev: 261 | lamb1 | Linux (SUSE 10.1) | x86_64 | OK | OK | |
| lemming | Windows Server 2003 (32-bit) | x64 | OK | [ OK ] | OK |
| Package: golubEsets |
| Version: 1.4.3 |
| Command: D:\biocbld\bbs-2.0-bioc\R\bin\R.exe CMD check golubEsets_1.4.3.tar.gz |
| RetCode: 0 |
| Time: 42.5 seconds |
| Status: OK |
| CheckDir: golubEsets.Rcheck |
| Warnings: 0 |
* checking for working latex ... OK * using log directory 'D:/biocbld/bbs-2.0-data-experiment/meat/golubEsets.Rcheck' * using R version 2.5.1 (2007-06-27) * checking for file 'golubEsets/DESCRIPTION' ... OK * this is package 'golubEsets' version '1.4.3' * checking package dependencies ... OK * checking if this is a source package ... OK * checking whether package 'golubEsets' can be installed ... OK * checking package directory ... OK * checking for portable file names ... OK * checking DESCRIPTION meta-information ... OK * checking top-level files ... OK * checking index information ... OK * checking package subdirectories ... OK * checking whether the package can be loaded ... OK * checking whether the package can be loaded with stated dependencies ... OK * checking Rd files ... OK * checking Rd cross-references ... OK * checking for missing documentation entries ... OK * checking for code/documentation mismatches ... OK * checking Rd \usage sections ... OK * checking data for non-ASCII characters ... OK * creating golubEsets-Ex.R ... OK * checking examples ... OK * creating golubEsets-manual.tex ... OK * checking golubEsets-manual.tex ... OK
golubEsets.Rcheck/00install.out:
installing R.css in D:/biocbld/bbs-2.0-data-experiment/meat/golubEsets.Rcheck
---------- Making package golubEsets ------------
adding build stamp to DESCRIPTION
no R files in this package
installing data files
installing man source files
installing indices
Loading required package: methods
not zipping data
installing help
>>> Building/Updating help pages for package 'golubEsets'
Formats: text html latex example chm
golubMerge text html latex example chm
golubTest text html latex example chm
golubTrain text html latex example chm
Microsoft HTML Help Compiler 4.74.8702
Compiling d:\biocbld\bbs-2.0-data-experiment\meat\golubEsets.Rcheck\00_pkg_src\golubEsets\chm\golubEsets.chm
Compile time: 0 minutes, 0 seconds
4 Topics
9 Local links
3 Internet links
1 Graphic
Created d:\biocbld\bbs-2.0-data-experiment\meat\golubEsets.Rcheck\00_pkg_src\golubEsets\chm\golubEsets.chm, 18,931 bytes
Compression increased file by 3,236 bytes.
adding MD5 sums
* DONE (golubEsets)