Back to the "Multiple platform build/check report"
| Package 16/48 | Hostname | OS | Arch | BUILD | CHECK | BUILD BIN |
gaschYHS1.0.0Vince CareyLast Changed Date: 2006-10-10 12:38:08 -0700 Last Changed Rev: 163 | lamb1 | Linux (SUSE 10.1) | x86_64 | OK | OK | |
| lemming | Windows Server 2003 (32-bit) | x64 | [ OK ] | OK | OK |
| Package: gaschYHS |
| Version: 1.0.0 |
| Command: D:\biocbld\bbs-2.0-bioc\R\bin\R.exe CMD build gaschYHS |
| RetCode: 0 |
| Time: 9.2 seconds |
| Status: OK |
| PackageFile: gaschYHS_1.0.0.tar.gz |
* checking for file 'gaschYHS/DESCRIPTION' ... OK * preparing 'gaschYHS': * checking DESCRIPTION meta-information ... OK * removing junk files * checking for LF line-endings in source files * checking for empty or unneeded directories * building 'gaschYHS_1.0.0.tar.gz'