Back to the "Multiple platform build/check report"
| Package 9/48 | Hostname | OS | Arch | BUILD | CHECK | BUILD BIN |
colonCA1.4.1W Sylvia MerkLast Changed Date: 2007-04-15 15:13:35 -0700 Last Changed Rev: 256 | lamb1 | Linux (SUSE 10.1) | x86_64 | OK | OK | |
| lemming | Windows Server 2003 (32-bit) | x64 | OK | OK | [ OK ] |
| Package: colonCA |
| Version: 1.4.1 |
| Command: D:\biocbld\bbs-2.0-bioc\R\bin\R.exe CMD INSTALL --build --library=colonCA.buildbin-libdir colonCA_1.4.1.tar.gz |
| RetCode: 0 |
| Time: 7.8 seconds |
| Status: OK |
| PackageFile: colonCA_1.4.1.zip |
installing R.css in D:/biocbld/bbs-2.0-data-experiment/meat/colonCA.buildbin-libdir
Using auto-selected zip options 'colonCA-ZIPDATA=zip'
---------- Making package colonCA ------------
adding build stamp to DESCRIPTION
installing R files
installing data files
installing man source files
installing indices
zipping data
installing help
>>> Building/Updating help pages for package 'colonCA'
Formats: text html latex example chm
colonCA text html latex example chm
Microsoft HTML Help Compiler 4.74.8702
Compiling d:\biocbld\bbs-2.0-data-experiment\meat\R.INSTALL.4904\colonCA\chm\colonCA.chm
Compile time: 0 minutes, 0 seconds
2 Topics
2 Local links
1 Internet link
1 Graphic
Created d:\biocbld\bbs-2.0-data-experiment\meat\R.INSTALL.4904\colonCA\chm\colonCA.chm, 17,010 bytes
Compression increased file by 9,357 bytes.
adding MD5 sums
packaged installation of package 'colonCA' as colonCA_1.4.1.zip
* DONE (colonCA)