Back to the "Multiple platform build/check report"
| Package 1/48 | Hostname | OS | Arch | BUILD | CHECK | BUILD BIN |
affydata1.11.3LaurentLast Changed Date: 2007-08-07 18:27:33 -0700 Last Changed Rev: 410 | lamb1 | Linux (SUSE 10.1) | x86_64 | OK | [ OK ] | |
| lemming | Windows Server 2003 (32-bit) | x64 | OK | OK | OK |
| Package: affydata |
| Version: 1.11.3 |
| Command: /home/biocbuild/bbs-2.0-bioc/R/bin/R CMD check affydata_1.11.3.tar.gz |
| RetCode: 0 |
| Time: 64.0 seconds |
| Status: OK |
| CheckDir: affydata.Rcheck |
| Warnings: 0 |
* checking for working latex ... OK * using log directory '/home/biocbuild/bbs-2.0-data-experiment/meat/affydata.Rcheck' * using R version 2.5.1 (2007-06-27) * checking for file 'affydata/DESCRIPTION' ... OK * this is package 'affydata' version '1.11.3' * checking package dependencies ... OK * checking if this is a source package ... OK * checking whether package 'affydata' can be installed ... OK * checking package directory ... OK * checking for portable file names ... OK * checking for sufficient/correct file permissions ... OK * checking DESCRIPTION meta-information ... OK * checking top-level files ... OK * checking index information ... OK * checking package subdirectories ... OK * checking R files for non-ASCII characters ... OK * checking R files for syntax errors ... OK * checking whether the package can be loaded ... OK * checking whether the package can be loaded with stated dependencies ... OK * checking for unstated dependencies in R code ... OK * checking S3 generic/method consistency ... OK * checking replacement functions ... OK * checking foreign function calls ... OK * checking R code for possible problems ... OK * checking Rd files ... OK * checking Rd cross-references ... OK * checking for missing documentation entries ... OK * checking for code/documentation mismatches ... OK * checking Rd \usage sections ... OK * checking data for non-ASCII characters ... OK * creating affydata-Ex.R ... OK * checking examples ... OK * checking package vignettes in 'inst/doc' ... OK * creating affydata-manual.tex ... OK * checking affydata-manual.tex ... OK
affydata.Rcheck/00install.out:
* Installing *source* package 'affydata' ...
** R
** data
** inst
** help
>>> Building/Updating help pages for package 'affydata'
Formats: text html latex example
Dilution text html latex
** building package indices ...
* DONE (affydata)