Back to the "Multiple platform build/check report"
| Package 26/48 | Hostname | OS | Arch | BUILD | CHECK | BUILD BIN |
HIVcDNAvantWout031.2.0Chris FraleyLast Changed Date: 2007-01-10 09:38:56 -0800 Last Changed Rev: 227 | lamb1 | Linux (SUSE 10.1) | x86_64 | OK | OK | |
| lemming | Windows Server 2003 (32-bit) | x64 | OK | [ OK ] | OK |
| Package: HIVcDNAvantWout03 |
| Version: 1.2.0 |
| Command: D:\biocbld\bbs-2.0-bioc\R\bin\R.exe CMD check HIVcDNAvantWout03_1.2.0.tar.gz |
| RetCode: 0 |
| Time: 30.7 seconds |
| Status: OK |
| CheckDir: HIVcDNAvantWout03.Rcheck |
| Warnings: 0 |
* checking for working latex ... OK * using log directory 'D:/biocbld/bbs-2.0-data-experiment/meat/HIVcDNAvantWout03.Rcheck' * using R version 2.5.1 (2007-06-27) * checking for file 'HIVcDNAvantWout03/DESCRIPTION' ... OK * this is package 'HIVcDNAvantWout03' version '1.2.0' * checking package dependencies ... OK * checking if this is a source package ... OK * checking whether package 'HIVcDNAvantWout03' can be installed ... OK * checking package directory ... OK * checking for portable file names ... OK * checking DESCRIPTION meta-information ... OK * checking top-level files ... OK * checking index information ... OK * checking package subdirectories ... OK * checking whether the package can be loaded ... OK * checking whether the package can be loaded with stated dependencies ... OK * checking Rd files ... OK * checking Rd cross-references ... OK * checking for missing documentation entries ... OK * checking for code/documentation mismatches ... OK * checking Rd \usage sections ... OK * checking data for non-ASCII characters ... OK * creating HIVcDNAvantWout03-Ex.R ... OK * checking examples ... OK * creating HIVcDNAvantWout03-manual.tex ... OK * checking HIVcDNAvantWout03-manual.tex ... OK
HIVcDNAvantWout03.Rcheck/00install.out:
installing R.css in D:/biocbld/bbs-2.0-data-experiment/meat/HIVcDNAvantWout03.Rcheck
---------- Making package HIVcDNAvantWout03 ------------
adding build stamp to DESCRIPTION
no R files in this package
installing inst files
installing data files
installing man source files
installing indices
Read 450000 items
Read 450000 items
not zipping data
installing help
>>> Building/Updating help pages for package 'HIVcDNAvantWout03'
Formats: text html latex example chm
hiv1raw text html latex chm
hiv2raw text html latex chm
Microsoft HTML Help Compiler 4.74.8702
Compiling d:\biocbld\bbs-2.0-data-experiment\meat\HIVcDNAvantWout03.Rcheck\00_pkg_src\HIVcDNAvantWout03\chm\HIVcDNAvantWout03.chm
Compile time: 0 minutes, 0 seconds
3 Topics
4 Local links
2 Internet links
1 Graphic
Created d:\biocbld\bbs-2.0-data-experiment\meat\HIVcDNAvantWout03.Rcheck\00_pkg_src\HIVcDNAvantWout03\chm\HIVcDNAvantWout03.chm, 17,860 bytes
Compression increased file by 7,098 bytes.
adding MD5 sums
* DONE (HIVcDNAvantWout03)