Back to the "Multiple platform build/check report"
| Package 192/214 | Hostname | OS | Arch | BUILD | CHECK | BUILD BIN | 
| simulatorAPMS1.8.0Tony ChiangLast Changed Date: 2007-04-24 11:21:48 -0700 Last Changed Rev: 24214 | lamb1 | Linux (SUSE 10.1) | x86_64 | OK | OK | |
| wellington | Linux (SUSE 9.2) | i686 | OK | OK | ||
| lemming | Windows Server 2003 (32-bit) | x64 | [ OK ] | OK | OK | 
| Package: simulatorAPMS | 
| Version: 1.8.0 | 
| Command: D:\biocbld\bbs-2.0-bioc\R\bin\R.exe CMD build simulatorAPMS | 
| RetCode: 0 | 
| Time: 28.5 seconds | 
| Status: OK | 
| PackageFile: simulatorAPMS_1.8.0.tar.gz | 
* checking for file 'simulatorAPMS/DESCRIPTION' ... OK
* preparing 'simulatorAPMS':
* checking DESCRIPTION meta-information ... OK
* installing the package to re-build vignettes
installing R.css in D:/biocbld/bbs-2.0-bioc/tmpdir/Rinst518824221
---------- Making package simulatorAPMS ------------
  adding build stamp to DESCRIPTION
  installing R files
  installing inst files
  installing data files
  installing man source files
  installing indices
  not zipping data
  installing help
 >>> Building/Updating help pages for package 'simulatorAPMS'
     Formats: text html latex example chm 
  APComEX                           text    html    latex   example chm
  PPIEX                             text    html    latex   example chm
  TSNMatrix                         text    html    latex   example chm
  applyDeformationError             text    html    latex   example chm
  applyFNErrors                     text    html    latex   example chm
  applyFPErrors                     text    html    latex   example chm
  applyStickyError                  text    html    latex   example chm
  compIndep                         text    html    latex   example chm
  filteredProt                      text    html    latex   example chm
  fullSimEX                         text    html    latex   example chm
  missedProtEX                      text    html    latex   example chm
  missedProtHMSPCI                  text    html    latex   example chm
  recordSticky                      text    html    latex   example chm
  runAPComplex                      text    html    latex   example chm
  runCompIndep                      text    html    latex   example chm
  runSimEX                          text    html    latex   example chm
  runSimulators                     text    html    latex   example chm
  simEX                             text    html    latex   example chm
  simulator                         text    html    latex   example chm
  simulatorD                        text    html    latex   example chm
  simulatorS                        text    html    latex   example chm
  vBaits                            text    html    latex   example chm
  vBaitsEX                          text    html    latex   example chm
  vDeformEX                         text    html    latex   example chm
  vDeformed                         text    html    latex   example chm
  vDeformedEX                       text    html    latex   example chm
  vStickyEX                         text    html    latex   example chm
Microsoft HTML Help Compiler 4.74.8702
Compiling d:\biocbld\bbs-2.0-bioc\meat\simulatorAPMS\chm\simulatorAPMS.chm
Compile time: 0 minutes, 0 seconds
28	Topics
78	Local links
0	Internet links
1	Graphic
Created d:\biocbld\bbs-2.0-bioc\meat\simulatorAPMS\chm\simulatorAPMS.chm, 36,762 bytes
Compression decreased file by 30,099 bytes.
  adding MD5 sums
* DONE (simulatorAPMS)
* creating vignettes ... OK
* removing junk files
* checking for LF line-endings in source files
* checking for empty or unneeded directories
* building 'simulatorAPMS_1.8.0.tar.gz'