Back to the "Multiple platform build/check report"
| Package 160/214 | Hostname | OS | Arch | BUILD | CHECK | BUILD BIN | 
| qvalue1.10.0John D. StoreyLast Changed Date: 2007-04-24 11:21:48 -0700 Last Changed Rev: 24214 | lamb1 | Linux (SUSE 10.1) | x86_64 | OK | OK | |
| wellington | Linux (SUSE 9.2) | i686 | OK | OK | ||
| lemming | Windows Server 2003 (32-bit) | x64 | OK | [ OK ] | OK | 
| Package: qvalue | 
| Version: 1.10.0 | 
| Command: D:\biocbld\bbs-2.0-bioc\R\bin\R.exe CMD check qvalue_1.10.0.tar.gz | 
| RetCode: 0 | 
| Time: 39.5 seconds | 
| Status: OK | 
| CheckDir: qvalue.Rcheck | 
| Warnings: 0 | 
* checking for working latex ... OK * using log directory 'D:/biocbld/bbs-2.0-bioc/meat/qvalue.Rcheck' * using R version 2.5.1 (2007-06-27) * checking for file 'qvalue/DESCRIPTION' ... OK * this is package 'qvalue' version '1.10.0' * checking package dependencies ... OK * checking if this is a source package ... OK * checking whether package 'qvalue' can be installed ... OK * checking package directory ... OK * checking for portable file names ... OK * checking DESCRIPTION meta-information ... OK * checking top-level files ... OK * checking index information ... OK * checking package subdirectories ... OK * checking R files for non-ASCII characters ... OK * checking R files for syntax errors ... OK * checking whether the package can be loaded ... OK * checking whether the package can be loaded with stated dependencies ... OK * checking for unstated dependencies in R code ... OK * checking S3 generic/method consistency ... OK * checking replacement functions ... OK * checking foreign function calls ... OK * checking R code for possible problems ... OK * checking Rd files ... OK * checking Rd cross-references ... OK * checking for missing documentation entries ... OK * checking for code/documentation mismatches ... OK * checking Rd \usage sections ... OK * checking data for non-ASCII characters ... OK * creating qvalue-Ex.R ... OK * checking examples ... OK * checking package vignettes in 'inst/doc' ... OK * creating qvalue-manual.tex ... OK * checking qvalue-manual.tex ... OK
qvalue.Rcheck/00install.out:
installing R.css in D:/biocbld/bbs-2.0-bioc/meat/qvalue.Rcheck
---------- Making package qvalue ------------
  adding build stamp to DESCRIPTION
  installing R files
  installing inst files
  installing data files
  installing man source files
  installing indices
  not zipping data
  installing help
 >>> Building/Updating help pages for package 'qvalue'
     Formats: text html latex example chm 
  hedenfalk                         text    html    latex           chm
  qplot                             text    html    latex   example chm
  qsummary                          text    html    latex   example chm
  qvalue.gui                        text    html    latex   example chm
  qvalue                            text    html    latex   example chm
  qwrite                            text    html    latex   example chm
Microsoft HTML Help Compiler 4.74.8702
Compiling d:\biocbld\bbs-2.0-bioc\meat\qvalue.Rcheck\00_pkg_src\qvalue\chm\qvalue.chm
Compile time: 0 minutes, 0 seconds
7	Topics
35	Local links
3	Internet links
1	Graphic
Created d:\biocbld\bbs-2.0-bioc\meat\qvalue.Rcheck\00_pkg_src\qvalue\chm\qvalue.chm, 24,753 bytes
Compression decreased file by 926 bytes.
  preparing package qvalue for lazy loading
  adding MD5 sums
* DONE (qvalue)