Back to the "Multiple platform build/check report"
| Package 139/214 | Hostname | OS | Arch | BUILD | CHECK | BUILD BIN |
oneChannelGUI1.2.20Raffaele A CalogeroLast Changed Date: 2007-08-26 10:01:45 -0700 Last Changed Rev: 26662 | lamb1 | Linux (SUSE 10.1) | x86_64 | OK | WARNINGS | |
| wellington | Linux (SUSE 9.2) | i686 | OK | WARNINGS | ||
| lemming | Windows Server 2003 (32-bit) | x64 | OK | WARNINGS | [ OK ] |
| Package: oneChannelGUI |
| Version: 1.2.20 |
| Command: D:\biocbld\bbs-2.0-bioc\R\bin\R.exe CMD INSTALL --build --library=oneChannelGUI.buildbin-libdir oneChannelGUI_1.2.20.tar.gz |
| RetCode: 0 |
| Time: 37.9 seconds |
| Status: OK |
| PackageFile: oneChannelGUI_1.2.20.zip |
installing R.css in D:/biocbld/bbs-2.0-bioc/meat/oneChannelGUI.buildbin-libdir
Using auto-selected zip options 'oneChannelGUI-ZIPDATA=zip oneChannelGUI-HELP=ziponly'
---------- Making package oneChannelGUI ------------
adding build stamp to DESCRIPTION
installing R files
installing inst files
installing data files
installing man source files
installing indices
zipping data
installing help
>>> Building/Updating help pages for package 'oneChannelGUI'
Formats: text html latex example chm
AptMidas text html latex example chm
GOenrichment text html latex example chm
IPAlistFilter text html latex example chm
ML.edesign text html latex example chm
OpenLargefiles text html latex example chm
PlotOptionsv1 text html latex example chm
RankProd text html latex example chm
VennDiagram text html latex example chm
crosshybFilter text html latex example chm
crosshybhuex10stv2na22hg18 text html latex chm
crosshybmoex10stv1na22mm8 text html latex chm
crosshybraex10stv1na22rn4 text html latex chm
dfMAplot text html latex example chm
erankProdAltSpl text html latex example chm
erankProdAltSplFilterl text html latex example chm
extractAffyids text html latex example chm
filteringTable text html latex example chm
geoVSbioc text html latex chm
huex10stv2na22hg18 text html latex chm
inspecting.one.splice.index text html latex example chm
inspecting.splice.index text html latex example chm
intensityFilter text html latex example chm
iqrFilter text html latex example chm
listFilter text html latex example chm
masigpro text html latex example chm
masigpro.edesign text html latex example chm
masigpro.view text html latex example chm
moex10stv1na22mm8 text html latex chm
myExpresso text html latex example chm
ocPlotHist text html latex example chm
ocPlotPCA text html latex example chm
oneChannelGUI-package text html latex example chm
oneChannelGUI text html latex example chm
plierToZero text html latex example chm
plotGO text html latex example chm
raex10stv1na22rn4 text html latex chm
rawpCheck text html latex example chm
reviqrFilter text html latex example chm
sample.size.evaluation text html latex example chm
sample.size.evaluation1 text html latex example chm
showDataset text html latex example chm
showTopTable text html latex example chm
siggenes text html latex example chm
simFilter text html latex example chm
spliceIndex text html latex example chm
targetWidget text html latex example chm
templA text html latex example chm
trainTest text html latex example chm
zipping help files
Microsoft HTML Help Compiler 4.74.8702
Compiling d:\biocbld\bbs-2.0-bioc\meat\R.INSTALL.5064\oneChannelGUI\chm\oneChannelGUI.chm
Compile time: 0 minutes, 0 seconds
49 Topics
141 Local links
0 Internet links
1 Graphic
Created d:\biocbld\bbs-2.0-bioc\meat\R.INSTALL.5064\oneChannelGUI\chm\oneChannelGUI.chm, 53,056 bytes
Compression decreased file by 67,555 bytes.
preparing package oneChannelGUI for lazy loading
Loading required package: Biobase
Loading required package: tools
Welcome to Bioconductor
Vignettes contain introductory material. To view, type
'openVignette()'. To cite Bioconductor, see
'citation("Biobase")' and for packages 'citation(pkgname)'.
Loading required package: affylmGUI
Loading required package: limma
Loading required package: tcltk
Loading Tcl/Tk interface ... done
Loading required package: affy
Loading required package: affyio
Loading required package: tkWidgets
Loading required package: widgetTools
Loading required package: DynDoc
adding MD5 sums
packaged installation of package 'oneChannelGUI' as oneChannelGUI_1.2.20.zip
* DONE (oneChannelGUI)