Back to the "Multiple platform build/check report"
| Package 112/214 | Hostname | OS | Arch | BUILD | CHECK | BUILD BIN | 
| maanova1.6.0Lei WuLast Changed Date: 2007-07-17 08:25:07 -0700 Last Changed Rev: 25854 | lamb1 | Linux (SUSE 10.1) | x86_64 | OK | WARNINGS | |
| wellington | Linux (SUSE 9.2) | i686 | OK | WARNINGS | ||
| lemming | Windows Server 2003 (32-bit) | x64 | [ OK ] | WARNINGS | OK | 
| Package: maanova | 
| Version: 1.6.0 | 
| Command: D:\biocbld\bbs-2.0-bioc\R\bin\R.exe CMD build maanova | 
| RetCode: 0 | 
| Time: 24.7 seconds | 
| Status: OK | 
| PackageFile: maanova_1.6.0.tar.gz | 
* checking for file 'maanova/DESCRIPTION' ... OK
* preparing 'maanova':
* checking DESCRIPTION meta-information ... OK
* cleaning src
* installing the package to re-build vignettes
installing R.css in D:/biocbld/bbs-2.0-bioc/tmpdir/Rinst92812786
---------- Making package maanova ------------
  adding build stamp to DESCRIPTION
  running src/Makefile.win ...
gcc   -Id:/biocbld/bbs-2.0-bioc/R/include  -O2   -c masvd.c -o masvd.o
gcc   -Id:/biocbld/bbs-2.0-bioc/R/include  -O2   -c makeratio.c -o makeratio.o
gcc   -Id:/biocbld/bbs-2.0-bioc/R/include  -O2   -c util.c -o util.o
gcc   -Id:/biocbld/bbs-2.0-bioc/R/include  -O2   -c shift.c -o shift.o
gcc  --shared -s -o maanova.dll masvd.o makeratio.o util.o shift.o  -Ld:/biocbld/bbs-2.0-bioc/R/src/gnuwin32 -Ld:/biocbld/bbs-2.0-bioc/R/bin -lRlapack -lR
  ... done
  installing DLL
  installing R files
  installing demos
  installing inst files
  installing data files
  installing man source files
  installing indices
  not zipping data
  installing help
 >>> Building/Updating help pages for package 'maanova'
     Formats: text html latex example chm 
  Rmaanova.version                  text    html    latex   example chm
  abf1                              text    html    latex   example chm
  adjPval                           text    html    latex   example chm
  arrayview                         text    html    latex   example chm
  consensus                         text    html    latex   example chm
  createData                        text    html    latex   example chm
  dyeswapfilter                     text    html    latex   example chm
  exprSet2Rawdata                   text    html    latex           chm
  fill.missing                      text    html    latex   example chm
  fitmaanova                        text    html    latex   example chm
  fom                               text    html    latex   example chm
  geneprofile                       text    html    latex   example chm
  gridcheck                         text    html    latex   example chm
  kidney                            text    html    latex   example chm
  maanova-internal                  text    html    latex   example chm
  macluster                         text    html    latex   example chm
  makeModel                         text    html    latex   example chm
  matest                            text    html    latex   example chm
  paigen                            text    html    latex   example chm
  read.madata                       text    html    latex   example chm
  resiplot                          text    html    latex   example chm
  riplot                            text    html    latex   example chm
  subset.madata                     text    html    latex   example chm
  transform.madata                  text    html    latex   example chm
  varplot                           text    html    latex   example chm
  volcano                           text    html    latex   example chm
  write.madata                      text    html    latex   example chm
Microsoft HTML Help Compiler 4.74.8702
Compiling d:\biocbld\bbs-2.0-bioc\meat\maanova\chm\maanova.chm
Compile time: 0 minutes, 0 seconds
28	Topics
82	Local links
0	Internet links
1	Graphic
Created d:\biocbld\bbs-2.0-bioc\meat\maanova\chm\maanova.chm, 70,852 bytes
Compression decreased file by 63,093 bytes.
  preparing package maanova for lazy loading
  adding MD5 sums
* DONE (maanova)
* creating vignettes ... OK
* cleaning src
* removing junk files
* checking for LF line-endings in source files
* checking for empty or unneeded directories
* building 'maanova_1.6.0.tar.gz'