Back to the "Multiple platform build/check report"
| Package 109/214 | Hostname | OS | Arch | BUILD | CHECK | BUILD BIN | 
| logicFS1.6.0Holger SchwenderLast Changed Date: 2007-04-24 11:21:48 -0700 Last Changed Rev: 24214 | lamb1 | Linux (SUSE 10.1) | x86_64 | OK | OK | |
| wellington | Linux (SUSE 9.2) | i686 | OK | OK | ||
| lemming | Windows Server 2003 (32-bit) | x64 | [ OK ] | OK | OK | 
| Package: logicFS | 
| Version: 1.6.0 | 
| Command: D:\biocbld\bbs-2.0-bioc\R\bin\R.exe CMD build logicFS | 
| RetCode: 0 | 
| Time: 39.5 seconds | 
| Status: OK | 
| PackageFile: logicFS_1.6.0.tar.gz | 
* checking for file 'logicFS/DESCRIPTION' ... OK
* preparing 'logicFS':
* checking DESCRIPTION meta-information ... OK
* checking whether 'INDEX' is up-to-date ... NO
* use '--force' to overwrite the existing 'INDEX'
* installing the package to re-build vignettes
installing R.css in D:/biocbld/bbs-2.0-bioc/tmpdir/Rinst431651492
---------- Making package logicFS ------------
  adding build stamp to DESCRIPTION
  installing R files
  installing inst files
  installing data files
  installing man source files
  installing indices
  not zipping data
  installing help
 >>> Building/Updating help pages for package 'logicFS'
     Formats: text html latex example chm 
  data.logicfs                      text    html    latex           chm
  logic.bagging                     text    html    latex   example chm
  logic.fs                          text    html    latex   example chm
  logic.vim                         text    html    latex           chm
  logicFS-internal                  text    html    latex           chm
  make.snp.dummy                    text    html    latex           chm
  minDNF                            text    html    latex           chm
  plot.logicFS                      text    html    latex           chm
  predict.logicBagg                 text    html    latex           chm
  print.logicFS                     text    html    latex           chm
Microsoft HTML Help Compiler 4.74.8702
Compiling d:\biocbld\bbs-2.0-bioc\meat\logicFS\chm\logicFS.chm
Compile time: 0 minutes, 0 seconds
11	Topics
43	Local links
0	Internet links
1	Graphic
Created d:\biocbld\bbs-2.0-bioc\meat\logicFS\chm\logicFS.chm, 28,498 bytes
Compression decreased file by 13,928 bytes.
  adding MD5 sums
* DONE (logicFS)
* creating vignettes ... OK
* removing junk files
* checking for LF line-endings in source files
* checking for empty or unneeded directories
* building 'logicFS_1.6.0.tar.gz'