Back to the "Multiple platform build/check report"
| Package 101/214 | Hostname | OS | Arch | BUILD | CHECK | BUILD BIN | 
| iSNetwork1.6.0Elizabeth WhalenLast Changed Date: 2007-04-24 11:21:48 -0700 Last Changed Rev: 24214 | lamb1 | Linux (SUSE 10.1) | x86_64 | [ TIMEOUT ] | skipped | |
| wellington | Linux (SUSE 9.2) | i686 | OK | OK | ||
| lemming | Windows Server 2003 (32-bit) | x64 | N O T S U P P O R T E D | |||
| Package: iSNetwork | 
| Version: 1.6.0 | 
| Command: /home/biocbuild/bbs-2.0-bioc/R/bin/R CMD build iSNetwork | 
| RetCode: None | 
| Time: 2400.2 seconds | 
| Status: TIMEOUT | 
| PackageFile: None | 
* checking for file 'iSNetwork/DESCRIPTION' ... OK
* preparing 'iSNetwork':
* checking DESCRIPTION meta-information ... OK
* installing the package to re-build vignettes
* Installing *source* package 'iSNetwork' ...
** R
** inst
** save image
Loading required package: graph
Loading required package: Rgraphviz
Loading required package: geneplotter
Loading required package: annotate
Loading required package: Biobase
Loading required package: tools
Welcome to Bioconductor
  Vignettes contain introductory material. To view, type
  'openVignette()'. To cite Bioconductor, see
  'citation("Biobase")' and for packages 'citation(pkgname)'.
Loading required package: lattice
KernSmooth 2.22 installed
Copyright M. P. Wand 1997
Attaching package: 'Rgraphviz'
	The following object(s) are masked from package:annotate :
	 toFile 
Loading required package: RGtk
(R:4247): GLib-CRITICAL **: g_hook_insert_sorted: assertion `hook->func != NULL' failed